BEGIN:VCALENDAR
VERSION:2.0
PRODID:-//ChamberMaster//Event Calendar 2.0//EN
METHOD:PUBLISH
X-PUBLISHED-TTL:P3D
REFRESH-INTERVAL:P3D
CALSCALE:GREGORIAN
BEGIN:VEVENT
DTSTART:20240418T200000Z
DTEND:20240418T213000Z
X-MICROSOFT-CDO-ALLDAYEVENT:FALSE
SUMMARY:Youth Job & Apprenticeship Fair | Urbandale High School
DESCRIPTION:As part of the workforce initiative\, we are partnering with the City of Urbandale and Urbandale Community Schools to host a job fair at the Urbandale High School. This is an opportunity to educate Junior and Senior High School students on not only industries in the Urbandale community\, but open jobs and internship opportunities for the summer and beyond. \n\n\n\nThe fair is an opportunity to showcase your work\, employees and do on-site interviews if needed. The fair will be following 'CareerCon' from 1pm-3pm at the High School\, organized by the city to teach kids about different industries. \nIn attendance:\n\nOttumwa Job Corps Center\n\nA King's Throne\n\nPepsi Beverages\n\nHomemakers Furniture\n\nPeterson Painting\n\nShade Tree Auto\n\nUnity Point Health\n\nRaising Cane's\n\nPrimrose School of Urbandale\n\nHillyard - Des Moines\n\nCommercial Automation Systems\n\nUrbandale Police Department\n\nGoodwill of Central Iowa\n\nQPS Employment Group\n\nProctor Mechanical\n\nKading Properties\n\nCamp Fire Heart of Iowa\n\nCampbells Concession\n\nIowa Bankers Association\n\nBerkley Technology Services\n\nPapa John's of Iowa\n\nKwik Star\n\nUrbandale Schools\n\nGreater Des Moines Partnership\n\nNew View Autism LLC\n\nServe Credit Union\n\nRaccoon Valley Partners - McDonald's\n\nMidAmerican Energy
X-ALT-DESC;FMTTYPE=text/html:As part of the workforce initiative\, we are partnering with the City of Urbandale and Urbandale Community Schools to host a job fair at the Urbandale High School. This is an opportunity to educate Junior and Senior High School students on not only industries in the Urbandale community\, but open jobs and internship opportunities for the summer and beyond.&nbsp\;<br />\n<br />\nThe fair is an opportunity to showcase your work\, employees and do on-site interviews if needed. The fair will be following &#39\;CareerCon&#39\; from 1pm-3pm at the High School\, organized by the city to teach kids about different industries.&nbsp\;\n<div style="text-align: center\;">In attendance:<br />\nOttumwa Job Corps Center<br />\nA King&#39\;s Throne<br />\nPepsi Beverages<br />\nHomemakers Furniture<br />\nPeterson Painting<br />\nShade Tree Auto<br />\nUnity Point Health<br />\nRaising Cane&#39\;s<br />\nPrimrose School of Urbandale<br />\nHillyard - Des Moines<br />\nCommercial Automation Systems<br />\nUrbandale Police Department<br />\nGoodwill of Central Iowa<br />\nQPS Employment Group<br />\nProctor Mechanical<br />\nKading Properties<br />\nCamp Fire Heart of Iowa<br />\nCampbells Concession<br />\nIowa Bankers Association<br />\nBerkley Technology Services<br />\nPapa John&#39\;s of Iowa<br />\nKwik Star<br />\nUrbandale Schools<br />\nGreater Des Moines Partnership<br />\nNew View Autism LLC<br />\nServe Credit Union<br />\nRaccoon Valley Partners - McDonald&#39\;s<br />\nMidAmerican Energy</div>\n
LOCATION:Urbandale High School Commons 7111 Aurora Ave. Urbandale\, IA 50322
UID:e.1185.13253
SEQUENCE:3
DTSTAMP:20260421T142317Z
URL:http://business.uniquelyurbandale.com/events/details/youth-job-apprenticeship-fair-urbandale-high-school-13253
END:VEVENT

END:VCALENDAR
