BEGIN:VCALENDAR
VERSION:2.0
PRODID:-//ChamberMaster//Event Calendar 2.0//EN
METHOD:PUBLISH
X-PUBLISHED-TTL:P3D
REFRESH-INTERVAL:P3D
CALSCALE:GREGORIAN
BEGIN:VEVENT
DTSTART:20241006T170000Z
DTEND:20241006T230000Z
X-MICROSOFT-CDO-ALLDAYEVENT:FALSE
SUMMARY:Windsor Heights Book Fair
DESCRIPTION:The 3rd Annual Windsor Heights Book Fair will be held on Sunday October 6th\,2024 from 12 to 6 pm at the Agora Event Center at 7692 Hickman Road featuring over three dozen local authors with a free will donation to a local food bank.
X-ALT-DESC;FMTTYPE=text/html:The 3rd Annual Windsor Heights Book Fair will be held on Sunday October 6th\,2024 from 12 to 6 pm at the Agora Event Center at 7692 Hickman Road featuring over three dozen local authors with a free will donation to a local food bank.
LOCATION:Agora Event Center 7692 Agora Event Center Des Moines\, Iowa
UID:e.1185.15632
SEQUENCE:3
DTSTAMP:20260421T061231Z
URL:http://business.uniquelyurbandale.com/events/details/windsor-heights-book-fair-15632
END:VEVENT

END:VCALENDAR
