BEGIN:VCALENDAR
VERSION:2.0
PRODID:-//ChamberMaster//Event Calendar 2.0//EN
METHOD:PUBLISH
X-PUBLISHED-TTL:P3D
REFRESH-INTERVAL:P3D
CALSCALE:GREGORIAN
BEGIN:VEVENT
DTSTART:20230914T230000Z
DTEND:20230915T000000Z
X-MICROSOFT-CDO-ALLDAYEVENT:FALSE
SUMMARY:What Is Genetic Counseling with Dr. Katie Klingaman
DESCRIPTION:Learn about genetic counseling and testing with Katie Klingaman\, MGC\, LCGC\, Genetic Counselor at UnityPoint Health-John Stoddard Cancer Center.\n\n \n\nThis program ties in with our 2023 All Urbandale Reads book\, "The Immortal Life of Henrietta Lacks\," and reading the book is encouraged. \n\n \n\nAll Urbandale Reads is a "one book\, one community" reading initiative that attempts to get everyone in a city to read and discuss the same book. The goal of All Urbandale Reads is to unite the community and promote literacy through one inspiring read. Click here to learn more about this initiative and to see a list of past titles. \n\n\n\n \n\nAll Urbandale Reads reading material and programming funded by the Urbandale Public Library Foundation.
X-ALT-DESC;FMTTYPE=text/html:<span style="color:rgb(87\, 90\, 93)\; font-family:helvetica neue\,helvetica\,arial\,sans-serif">Learn about genetic counseling and testing with Katie Klingaman\, MGC\, LCGC\, Genetic Counselor at UnityPoint Health-John Stoddard Cancer Center.</span><br />\n&nbsp\;\n<div>\n<div><em>This program ties in with our 2023 All Urbandale Reads book\, &quot\;The Immortal Life of Henrietta Lacks\,&quot\; and reading the book is encouraged.&nbsp\;</em></div>\n\n<div>&nbsp\;</div>\n\n<div>All Urbandale Reads is a &ldquo\;one book\, one community&rdquo\; reading initiative that attempts to get everyone in a city to read and discuss the same book. The goal of All Urbandale Reads is to unite the community and promote literacy through one inspiring read.&nbsp\;<a href="https://www.urbandalelibrary.org/all-urbandale-reads/" style="color: rgb(0\, 0\, 170)\;" target="_self" title="">Click here</a>&nbsp\;to learn more about this initiative and to see a list of past titles.&nbsp\;</div>\n</div>\n\n<div>\n<div>&nbsp\;</div>\n\n<div><em>All Urbandale Reads reading material and programming funded by the&nbsp\;</em><a href="https://urbandalelibrary.org/about-us/foundation/" style="color: rgb(0\, 0\, 170)\;" target="_self" title=""><em>Urbandale Public Library Foundation</em></a><em>.&nbsp\;</em></div>\n</div>\n\n<div>&nbsp\;</div>\n\n<div>&nbsp\;</div>\n
LOCATION:Urbandale Public Library
UID:e.1185.13150
SEQUENCE:3
DTSTAMP:20260422T003018Z
URL:http://business.uniquelyurbandale.com/events/details/what-is-genetic-counseling-with-dr-katie-klingaman-13150
END:VEVENT

END:VCALENDAR
