BEGIN:VCALENDAR
VERSION:2.0
PRODID:-//ChamberMaster//Event Calendar 2.0//EN
METHOD:PUBLISH
X-PUBLISHED-TTL:P3D
REFRESH-INTERVAL:P3D
CALSCALE:GREGORIAN
BEGIN:VEVENT
DTSTART;VALUE=DATE:20250828
DTEND;VALUE=DATE:20250829
TRANSP:TRANSPARENT
X-MICROSOFT-CDO-ALLDAYEVENT:TRUE
SUMMARY:West Metro Golf Tournament presented by Iowa Credit Union League\, Midland Credit Union\, Premier Credit Union and Serve Credit Union
DESCRIPTION:Join the Urbandale\, West Des Moines\, and Clive Chambers for the annual golf event on Thursday\, August 28th at Beaver Creek Golf Course in Grimes. \n\n\n\nPlease register to golf through the West Des Moines Chamber \n\nRegistration for 2025 is open.\n\nRegister here.\n\n\n\n\n\nFor sponsorship information\, contact Kelly at 515-331-6855.\n\n\n\nWant to volunteer? Opportunities open soon!
X-ALT-DESC;FMTTYPE=text/html:<p style="text-align: center\;"><span style="font-size:14px\;"><span style="font-family:arial\;">Join the <strong>Urbandale</strong>\, <strong>West Des Moines</strong>\, and <strong>Clive</strong> Chambers for the annual golf event on <strong>Thursday\, August 28th</strong> at Beaver Creek Golf Course in Grimes.&nbsp\;</span></span><br />\n<br />\n<span style="font-size:14px\;"><span style="font-family:arial\;"><strong>Please register to golf through the West Des Moines Chamber&nbsp\;</strong></span></span><br />\n<font color="#ff0000"><span style="font-size: 18px\;">Registration for 2025 is&nbsp\;open.<br />\n<a href="https://wdmchamberia.chambermaster.com/eventregistration/register/4499">Register here.</a></span></font><br />\n<br />\n<br />\nFor sponsorship information\, contact Kelly at 515-331-6855.<br />\n<br />\nWant to volunteer? Opportunities open soon!</p>\n\n<p><br />\n&nbsp\;</p>\n
LOCATION:Event Location: Beaver Creek Golf Club 11200 NW Towner Dr. Grimes\, IA 50111
UID:e.1185.15901
SEQUENCE:3
DTSTAMP:20260421T140234Z
URL:http://business.uniquelyurbandale.com/events/details/west-metro-golf-tournament-presented-by-iowa-credit-union-league-midland-credit-union-premier-credit-union-and-serve-credit-union-15901
END:VEVENT

END:VCALENDAR
