BEGIN:VCALENDAR
VERSION:2.0
PRODID:-//ChamberMaster//Event Calendar 2.0//EN
METHOD:PUBLISH
X-PUBLISHED-TTL:P3D
REFRESH-INTERVAL:P3D
CALSCALE:GREGORIAN
BEGIN:VEVENT
DTSTART;VALUE=DATE:20230824
DTEND;VALUE=DATE:20230825
TRANSP:TRANSPARENT
X-MICROSOFT-CDO-ALLDAYEVENT:TRUE
SUMMARY:West Metro Golf Tournament presented by Iowa Credit Union League\, Midland Credit Union\, Premier Credit Union and Serve Credit Union
DESCRIPTION:Join the Urbandale\, West Des Moines\, and Clive Chambers for the annual golf event on Thursday\, August 24th at Beaver Creek Golf Course in Grimes. \n\nInterested in volunteering? Click HERE!\n\n\n\n\n\nPlease register to golf through the West Des Moines Chamber \n\nHERE\n\n\n\nFor sponsorship information\, contact Sidney at 515-331-6855 or sidney@urbandalechamber.com
X-ALT-DESC;FMTTYPE=text/html:<p style="text-align: center\;"><span style="font-size:14px\;"><span style="font-family:arial\;">Join the <strong>Urbandale</strong>\, <strong>West Des Moines</strong>\, and <strong>Clive</strong> Chambers for the annual golf event on <strong>Thursday\, August 24th</strong> at Beaver Creek Golf Course in Grimes.&nbsp\;<br />\n<span style="font-size:18px\;"><strong>Interested in volunteering? <u><a href="https://www.signupgenius.com/go/10c0d4da9a928a2fd0-west2#/"><span style="color:#FF0000\;">Click HERE!</span></a></u></strong></span></span></span><br />\n<br />\n<br />\n<span style="font-size:14px\;"><span style="font-family:arial\;"><strong>Please register to golf through the West Des Moines Chamber&nbsp\;<br />\n<u><span style="font-size:18px\;"><a href="https://wdmchamber.org/events/west-metro-golf-classic/"><span style="color:#FF0000\;">HERE</span></a></span></u></strong></span></span><br />\n<br />\nFor sponsorship information\, contact Sidney at 515-331-6855 or sidney@urbandalechamber.com</p>\n
LOCATION:Beaver Creek Golf Club
UID:e.1185.12652
SEQUENCE:3
DTSTAMP:20260422T020348Z
URL:http://business.uniquelyurbandale.com/events/details/west-metro-golf-tournament-presented-by-iowa-credit-union-league-midland-credit-union-premier-credit-union-and-serve-credit-union-12652
END:VEVENT

END:VCALENDAR
