BEGIN:VCALENDAR
VERSION:2.0
PRODID:-//ChamberMaster//Event Calendar 2.0//EN
METHOD:PUBLISH
X-PUBLISHED-TTL:P3D
REFRESH-INTERVAL:P3D
CALSCALE:GREGORIAN
BEGIN:VEVENT
DTSTART;VALUE=DATE:20240822
DTEND;VALUE=DATE:20240823
TRANSP:TRANSPARENT
X-MICROSOFT-CDO-ALLDAYEVENT:TRUE
SUMMARY:West Metro Golf Tournament presented by Iowa Credit Union League\, Midland Credit Union\, Premier Credit Union and Serve Credit Union
DESCRIPTION:Join the Urbandale\, West Des Moines\, and Clive Chambers for the annual golf event on Thursday\, August 22th at Beaver Creek Golf Course in Grimes. \n\n\n\nPlease register to golf through the West Des Moines Chamber \n\nREGISTER FOR GOLF HERE\n\n\n\nFor sponsorship information\, contact Anna at 515-331-6855 or amable@urbandalechamber.com\n\n\n\nWant to volunteer? Click here!
X-ALT-DESC;FMTTYPE=text/html:<p style="text-align: center\;"><span style="font-size:14px\;"><span style="font-family:arial\;">Join the <strong>Urbandale</strong>\, <strong>West Des Moines</strong>\, and <strong>Clive</strong> Chambers for the annual golf event on <strong>Thursday\, August 22th</strong> at Beaver Creek Golf Course in Grimes.&nbsp\;</span></span><br />\n<br />\n<span style="font-size:14px\;"><span style="font-family:arial\;"><strong>Please register to golf through the West Des Moines Chamber&nbsp\;</strong></span></span><br />\n<a href="https://members.wdmchamber.org/events/details/2024-west-metro-golf-par-tee-3666?calendarMonth=2024-08-01"><font color="#ff0000"><span style="font-size: 18px\;"><u>REGISTER FOR GOLF HERE</u></span></font></a><br />\n<br />\nFor sponsorship information\, contact Anna at 515-331-6855 or amable@urbandalechamber.com<br />\n<br />\nWant to volunteer? <a href="https://www.signupgenius.com/go/10C0D4DA9A928A2FD0-50348762-west#/">Click here</a>!</p>\n
LOCATION:Beaver Creek Golf Club
UID:e.1185.13216
SEQUENCE:3
DTSTAMP:20260421T102247Z
URL:http://business.uniquelyurbandale.com/events/details/west-metro-golf-tournament-presented-by-iowa-credit-union-league-midland-credit-union-premier-credit-union-and-serve-credit-union-08-22-2024-13216
END:VEVENT

END:VCALENDAR
