BEGIN:VCALENDAR
VERSION:2.0
PRODID:-//ChamberMaster//Event Calendar 2.0//EN
METHOD:PUBLISH
X-PUBLISHED-TTL:P3D
REFRESH-INTERVAL:P3D
CALSCALE:GREGORIAN
BEGIN:VEVENT
DTSTART:20250208T150000Z
DTEND:20250208T190000Z
X-MICROSOFT-CDO-ALLDAYEVENT:FALSE
SUMMARY:Wellness Expo- Come learn about the benefits of Fasting!
DESCRIPTION:Join us from 9:00 AM to 1:00 PM for the 2nd Annual FREE Natural Health and Wellness Event!\n\nExplore the amazing resources our community offers in natural health and wellness and take some time to relax and recharge.\n\n? Don't miss our special seminar on the benefits of fasting at 12:00 PM\, where we'll share how fasting can support your health and overall well-being.\n\nWe can't wait to see you there!
X-ALT-DESC;FMTTYPE=text/html:<div>\n<p>Join us from 9:00 AM to 1:00 PM for the 2nd Annual FREE Natural Health and Wellness Event!</p>\n\n<p>Explore the amazing resources our community offers in natural health and wellness&mdash\;and take some time to relax and recharge.</p>\n\n<p>? Don&rsquo\;t miss our special seminar on the benefits of fasting at 12:00 PM\, where we&rsquo\;ll share how fasting can support your health and overall well-being.</p>\n\n<p>We can&rsquo\;t wait to see you there!</p>\n</div>\n
LOCATION:Terrace Hills Golf Course 8700 NE 46th Ave\, Altoona\, IA 50009
UID:e.1185.16694
SEQUENCE:3
DTSTAMP:20260421T031741Z
URL:http://business.uniquelyurbandale.com/events/details/wellness-expo-come-learn-about-the-benefits-of-fasting-16694
END:VEVENT

END:VCALENDAR
