BEGIN:VCALENDAR
VERSION:2.0
PRODID:-//ChamberMaster//Event Calendar 2.0//EN
METHOD:PUBLISH
X-PUBLISHED-TTL:P3D
REFRESH-INTERVAL:P3D
CALSCALE:GREGORIAN
BEGIN:VEVENT
DTSTART:20250227T220000Z
DTEND:20250228T010000Z
X-MICROSOFT-CDO-ALLDAYEVENT:FALSE
SUMMARY:Vivid Social: 2nd Anniversary + Laser Launch ??
DESCRIPTION:? What to Expect:   FREE Alma IQ Skin Analysis   Discover the key to healthier\, radiant skin   Exclusive Event-Only Savings: ?? IV Therapy starting at just $50 ?? B12 Injections for $5-$10 ?? Save over $100 on Lip Filler ?? ?? Save over $600 on Sculptra ?? Discounts on Functional Medicine Consults   Live Laser Demonstrations   See the future of skincare in action!   Grand Prize Giveaway   Bring a friend and get an extra entry! ??   Gift Bags for the first 15 guests   Arrive early to claim yours! ?? ?? Date: Monday\, February 12th ? Time: 4-7 PM ?? Location: Vivid Wellness ?? Spots are LIMITED RSVP Now! https://www.eventbrite.com/e/vivid-social-2nd-birthday-celebration-tickets-1141135179039?aff=oddtdtcreator
X-ALT-DESC;FMTTYPE=text/html:? What to Expect: &bull\; FREE Alma IQ Skin Analysis &ndash\; Discover the key to healthier\, radiant skin &bull\; Exclusive Event-Only Savings: ?? IV Therapy starting at just $50 ?? B12 Injections for $5-$10 ?? Save over $100 on Lip Filler ?? ?? Save over $600 on Sculptra ?? Discounts on Functional Medicine Consults &bull\; Live Laser Demonstrations &ndash\; See the future of skincare in action! &bull\; Grand Prize Giveaway &ndash\; Bring a friend and get an extra entry! ?? &bull\; Gift Bags for the first 15 guests &ndash\; Arrive early to claim yours! ?? ?? Date: Monday\, February 12th ? Time: 4-7 PM ?? Location: Vivid Wellness ?? Spots are LIMITED&mdash\;RSVP Now! https://www.eventbrite.com/e/vivid-social-2nd-birthday-celebration-tickets-1141135179039?aff=oddtdtcreator
LOCATION:
UID:e.1185.16980
SEQUENCE:3
DTSTAMP:20260421T055422Z
URL:http://business.uniquelyurbandale.com/events/details/vivid-social-2nd-anniversary-laser-launch-16980
END:VEVENT

END:VCALENDAR
