BEGIN:VCALENDAR
VERSION:2.0
PRODID:-//ChamberMaster//Event Calendar 2.0//EN
METHOD:PUBLISH
X-PUBLISHED-TTL:P3D
REFRESH-INTERVAL:P3D
CALSCALE:GREGORIAN
BEGIN:VEVENT
DTSTART:20231110T170000Z
DTEND:20231110T190000Z
X-MICROSOFT-CDO-ALLDAYEVENT:FALSE
SUMMARY:Veterans Day Celebration
DESCRIPTION:Join Prairie Meadows and Polk County as they honor those who have served with our celebration ceremony.   Patriotic songs and the National Anthem performed by Southeast Polk Chamber Ensemble Choir   Presentation of Colors   Polk County Sheriff Office Color Guard   Remarks from local and national leaders   Attendance of state officials\, including politicians\, and law enforcement   Free entertainment in the Finish Line Show Lounge following program   Free Box Lunch   while supplies last!
X-ALT-DESC;FMTTYPE=text/html:Join Prairie Meadows and Polk County as they honor those who have served with our celebration ceremony. &bull\; Patriotic songs and the National Anthem performed by Southeast Polk Chamber Ensemble Choir &bull\; Presentation of Colors &ndash\; Polk County Sheriff Office Color Guard &bull\; Remarks from local and national leaders &bull\; Attendance of state officials\, including politicians\, and law enforcement &bull\; Free entertainment in the Finish Line Show Lounge following program &bull\; Free Box Lunch &ndash\; while supplies last!
LOCATION:Prairie Meadows Casino\, Racetrack\, & Hotel\, 1 Prairie Meadows Dr\, Altoona\, IA 50009
UID:e.1185.13214
SEQUENCE:3
DTSTAMP:20260421T210030Z
URL:http://business.uniquelyurbandale.com/events/details/veterans-day-celebration-13214
END:VEVENT

END:VCALENDAR
