BEGIN:VCALENDAR
VERSION:2.0
PRODID:-//ChamberMaster//Event Calendar 2.0//EN
METHOD:PUBLISH
X-PUBLISHED-TTL:P3D
REFRESH-INTERVAL:P3D
CALSCALE:GREGORIAN
BEGIN:VEVENT
DTSTART:20240127T163000Z
DTEND:20240127T180000Z
X-MICROSOFT-CDO-ALLDAYEVENT:FALSE
SUMMARY:Urbandale Talk with Officials - January
DESCRIPTION:Talk with Officials is a forum for the business community to connect with elected officials representing Urbandale at the State\, County\, City and School District.  Space is limited.\n\n\n\nThe Talk with Officials events are open to the general public and held on the last Saturday of each respective month.  Registration is required with in-person registration limited due to social distancing requirements.  Virtual attendance is unlimited\, however registration is still required to receive the zoom link.\n\n\n\nQuestions will be accepted both from in-person and virtual attendees.  \n\n\n\nConfirmed elected officials include: Senator Brad Zaun (R)\, Representative John Forbes (D)\, Representative Eddie Andrews (R)\, Representative Dan Gehlbach (R)\, Polk County Supervisor Bob Brownell (R) \, Jason Menke\, Urbandale School Board\, Mayor Bob Andeweg (Online)  \n\n\n\nA special thank you to Jon Smith with Iowa Realty for sponsoring the Talk with Officials Series in 2023 and 2024.  \n\n\n\nAnother special thank you to  Anderson Properties for sponsoring the January Talk with Officials event.
X-ALT-DESC;FMTTYPE=text/html:Talk with Officials is a forum for the business community to connect with elected officials representing Urbandale at the State\, County\, City and School District.&nbsp\; Space is limited.<br style="font-family: arial\, sans-serif\; font-size: 14px\;" />\n<br style="font-family: arial\, sans-serif\; font-size: 14px\;" />\nThe Talk with Officials events are open to the general public and held on the last Saturday of each respective month.&nbsp\; Registration is required with in-person registration limited due to social distancing requirements.&nbsp\; Virtual attendance is unlimited\, however registration is still required to receive the zoom link.<br />\n<br />\nQuestions will be accepted both from in-person and virtual attendees.&nbsp\;&nbsp\;<br />\n<br />\n<strong>Confirmed elected officials include: </strong>Senator Brad Zaun (R)\, Representative John Forbes (D)\, Representative Eddie Andrews (R)\,&nbsp\;Representative Dan Gehlbach (R)\, Polk County Supervisor Bob Brownell (R) \, Jason Menke\, Urbandale School Board\,&nbsp\;Mayor Bob Andeweg (Online)&nbsp\;&nbsp\;<br />\n<br />\nA special thank you to <a href="https://businesses.uniquelyurbandale.com/list/member/jon-smith-iowa-realty-3425">Jon Smith with Iowa Realty</a> for sponsoring the Talk with Officials Series in 2023 and 2024.&nbsp\;&nbsp\;<br />\n<br />\nAnother special thank you to &nbsp\;<a href="https://businesses.uniquelyurbandale.com/list/member/anderson-properties-1015">Anderson Properties</a> for sponsoring the January Talk with Officials event.&nbsp\;&nbsp\;
LOCATION:Urbandale Chamber of Commerce office - limited in person Aisha R. Syed Board Room | Iowa Realty\, Realtor 2830 100th St.\, Ste. 110\, Urbandale and available virtually
UID:e.1185.12979
SEQUENCE:3
DTSTAMP:20260421T181822Z
URL:http://business.uniquelyurbandale.com/events/details/urbandale-talk-with-officials-january-12979
END:VEVENT

END:VCALENDAR
