BEGIN:VCALENDAR
VERSION:2.0
PRODID:-//ChamberMaster//Event Calendar 2.0//EN
METHOD:PUBLISH
X-PUBLISHED-TTL:P3D
REFRESH-INTERVAL:P3D
CALSCALE:GREGORIAN
BEGIN:VEVENT
DTSTART:20240627T223000Z
DTEND:20240627T233000Z
X-MICROSOFT-CDO-ALLDAYEVENT:FALSE
SUMMARY:Urbandale State of the City Address
DESCRIPTION:
X-ALT-DESC;FMTTYPE=text/html:
LOCATION:Urbandale Public Library
UID:e.1185.15390
SEQUENCE:3
DTSTAMP:20260421T114000Z
URL:http://business.uniquelyurbandale.com/events/details/urbandale-state-of-the-city-address-15390
END:VEVENT

END:VCALENDAR
