BEGIN:VCALENDAR
VERSION:2.0
PRODID:-//ChamberMaster//Event Calendar 2.0//EN
METHOD:PUBLISH
X-PUBLISHED-TTL:P3D
REFRESH-INTERVAL:P3D
CALSCALE:GREGORIAN
BEGIN:VEVENT
DTSTART:20240211T200000Z
DTEND:20240211T220000Z
X-MICROSOFT-CDO-ALLDAYEVENT:FALSE
SUMMARY:Urbandale’s American Legion Post 663 and VFW Post 9668
DESCRIPTION:The Urbandale Historical Society Presents American Legion Post 663 and VFW Post 9668.\n\nThe Program will consist of a History Presentation of the American Legion Building and its Mission.\n\nThe location of the program will take place the Urbandale Public Library\, located at 3520 86th Street in Urbandale starting at 2 PM.
X-ALT-DESC;FMTTYPE=text/html:The Urbandale Historical Society Presents American Legion Post 663 and VFW Post 9668.<br />\nThe Program will consist of a History Presentation of the American Legion Building and its Mission.<br />\nThe location of the program will take place the Urbandale Public Library\, located at 3520 86th Street in Urbandale starting at 2 PM.<br />\n<br />\n<br />\n&nbsp\;
LOCATION:Urbandale Public Library 3520 86th Street Urbandale\, Iowa 50322
UID:e.1185.15008
SEQUENCE:3
DTSTAMP:20260421T165737Z
URL:http://business.uniquelyurbandale.com/events/details/urbandale-s-american-legion-post-663-and-vfw-post-9668-15008
END:VEVENT

END:VCALENDAR
