BEGIN:VCALENDAR
VERSION:2.0
PRODID:-//ChamberMaster//Event Calendar 2.0//EN
METHOD:PUBLISH
X-PUBLISHED-TTL:P3D
REFRESH-INTERVAL:P3D
CALSCALE:GREGORIAN
BEGIN:VEVENT
DTSTART:20250111T233000Z
DTEND:20250112T013000Z
X-MICROSOFT-CDO-ALLDAYEVENT:FALSE
SUMMARY:Urbandale FREE Night at the Museum
DESCRIPTION:Come meet your neighbors. Urbandale residents can come for an after hours evening of play. All regular exhibits will be open. Free for Urbandale residents only (must provide an Urbandale zip code to attend).
X-ALT-DESC;FMTTYPE=text/html:<span style="color:rgb(8\, 8\, 9)\; font-family:roboto\,helvetica\,arial\,sans-serif\; font-size:15px">Come meet your neighbors. Urbandale residents can come for an after hours evening of play. All regular exhibits will be open. Free for Urbandale residents only (must provide an Urbandale zip code to attend).</span>
LOCATION:Des Moines Children's Museum
UID:e.1185.15969
SEQUENCE:3
DTSTAMP:20260421T013428Z
URL:http://business.uniquelyurbandale.com/events/details/urbandale-free-night-at-the-museum-15969
END:VEVENT

END:VCALENDAR
