BEGIN:VCALENDAR
VERSION:2.0
PRODID:-//ChamberMaster//Event Calendar 2.0//EN
METHOD:PUBLISH
X-PUBLISHED-TTL:P3D
REFRESH-INTERVAL:P3D
CALSCALE:GREGORIAN
BEGIN:VEVENT
DTSTART:20250814T210000Z
DTEND:20250814T220000Z
X-MICROSOFT-CDO-ALLDAYEVENT:FALSE
SUMMARY:Urbandale Downtown Social
DESCRIPTION:The Downtown Social is a monthly morning business gathering. It is an energizing and welcoming event designed to foster connections among the downtown businesses in Urbandale. Held on the second Thursday of every month\, we will meet at a different downtown business. Business owners and their teams will have the opportunity to mingle\, exchange business cards\, discuss opportunities\, and even collaborate on local projects or events.\n\n\n\nAll are welcome to join! Meet the local business owners and learn more about the future growth of the Downtown Urbandale Community!
X-ALT-DESC;FMTTYPE=text/html:<span style="font-family:arial\;">The Downtown Social is a monthly morning business gathering. It is an energizing and welcoming event designed to foster connections among the downtown businesses in Urbandale. Held on the second Thursday of every month\, we will meet at a different downtown business. Business owners and their teams will have the opportunity to mingle\, exchange business cards\, discuss opportunities\, and even collaborate on local projects or events.<br />\n<br />\nAll are welcome to join! Meet the local business owners and learn more about the future growth of the Downtown Urbandale Community!</span>
LOCATION:JOIN US FOR HAPPY HOUR @ STORMY'S! 6923 Douglas Ave. | Urbandale
UID:e.1185.16113
SEQUENCE:3
DTSTAMP:20260421T151119Z
URL:http://business.uniquelyurbandale.com/events/details/urbandale-downtown-social-16113
END:VEVENT

END:VCALENDAR
