BEGIN:VCALENDAR
VERSION:2.0
PRODID:-//ChamberMaster//Event Calendar 2.0//EN
METHOD:PUBLISH
X-PUBLISHED-TTL:P3D
REFRESH-INTERVAL:P3D
CALSCALE:GREGORIAN
BEGIN:VEVENT
DTSTART;VALUE=DATE:20240420
DTEND;VALUE=DATE:20240502
TRANSP:TRANSPARENT
X-MICROSOFT-CDO-ALLDAYEVENT:TRUE
SUMMARY:Urbandale Chamber's trip to Normandy\, Paris & River Cruise up the River Seine
DESCRIPTION:Visit the beaches of Normandy 80 years after historic D-Day. We have chartered the Amadeus Diamond for a glorious cruise up the Seine River.  Over the course of this 12-day trip\, you will follow the footsteps of Van Gogh\, Cezanne and Gauguin while winding alone the Seine River into the beautiful Normandy region to Le Havre on the rugged Atlantic Coast. \n\n\n\nFurther highlights of this trip include Cathedral of Notre Dame and Eiffel Tower of Paris\, Vincent van Gogh's resting place\, Church of Joan of Arc\, Etretat's cliff-top paths\, beaches of Normandy and the tranquil town of Les Andelys.  You will explore Omaha Beach\, the American Cemetery and Arromanches artificial harbor where you will learn historical facts about WWII and the D-Day invasion.  \n\n\n\nPrices start at $3\,899 per person and includes flight from Des Moines\, 3-nights in a first-class hotel in Caen the Normandy Capital\, 7-nights aboard the 5-star Amadeus Diamond Cruise Ship\, all meals included during the cruise (buffet breakfast\, lunch\, dinner\, midnight snack)\, coffee\, tea and iced tea are included with all meals including cappuccinos\, lattes and espresso\, daily onboard music performances\, city tours including Paris\, Caen\, Auvers-sur-Oise Rouen\, Les Andelys\, D-Day Tour\, and Mont Saint-Michel Tour.
X-ALT-DESC;FMTTYPE=text/html:<span style="box-sizing: border-box\; margin: 0px\; padding: 0px\; border: 0px\; outline: 0px\; font-size: 14px\; text-size-adjust: 100%\; vertical-align: baseline\; background-image: initial\; background-position: initial\; background-size: initial\; background-repeat: initial\; background-attachment: initial\; background-origin: initial\; background-clip: initial\; font-weight: bolder\; color: rgb(68\, 68\, 68)\; font-family: Arial\, Helvetica\, sans-serif\;">Visit the beaches of Normandy 80 years after historic D-Day.</span><span style="color: rgb(68\, 68\, 68)\; font-family: Arial\, Helvetica\, sans-serif\; font-size: 14px\;">&nbsp\;We have chartered the Amadeus Diamond for a glorious cruise up the Seine River.&nbsp\; Over the course of this 12-day trip\, you will follow the footsteps of Van Gogh\, Cezanne and Gauguin while winding alone the Seine River into the beautiful Normandy region to Le Havre on the rugged Atlantic Coast.&nbsp\;</span><br style="box-sizing: border-box\; color: rgb(68\, 68\, 68)\; font-family: Arial\, Helvetica\, sans-serif\; font-size: 14px\;" />\n<br style="box-sizing: border-box\; color: rgb(68\, 68\, 68)\; font-family: Arial\, Helvetica\, sans-serif\; font-size: 14px\;" />\n<span style="color: rgb(68\, 68\, 68)\; font-family: Arial\, Helvetica\, sans-serif\; font-size: 14px\;">Further highlights of this trip include Cathedral of Notre Dame and Eiffel Tower of Paris\, Vincent van Gogh&#39\;s resting place\, Church of Joan of Arc\, Etretat&#39\;s cliff-top paths\, beaches of Normandy and the tranquil town of Les Andelys.&nbsp\; You will explore Omaha Beach\, the American Cemetery and Arromanches artificial harbor where you will learn historical facts about WWII and the D-Day invasion.&nbsp\;&nbsp\;</span><br style="box-sizing: border-box\; color: rgb(68\, 68\, 68)\; font-family: Arial\, Helvetica\, sans-serif\; font-size: 14px\;" />\n<br style="box-sizing: border-box\; color: rgb(68\, 68\, 68)\; font-family: Arial\, Helvetica\, sans-serif\; font-size: 14px\;" />\n<span style="color: rgb(68\, 68\, 68)\; font-family: Arial\, Helvetica\, sans-serif\; font-size: 14px\;">Prices start at $3\,899 per person and includes flight from Des Moines\, 3-nights in a first-class hotel in Caen the Normandy Capital\, 7-nights aboard the 5-star Amadeus Diamond Cruise Ship\, all meals included during the cruise (buffet breakfast\, lunch\, dinner\, midnight snack)\, coffee\, tea and iced tea are included with all meals including cappuccinos\, lattes and espresso\, daily onboard music performances\, city tours including Paris\, Caen\, Auvers-sur-Oise Rouen\, Les Andelys\, D-Day Tour\, and Mont Saint-Michel Tour.</span>
LOCATION:
UID:e.1185.13051
SEQUENCE:3
DTSTAMP:20260421T125836Z
URL:http://business.uniquelyurbandale.com/events/details/urbandale-chamber-s-trip-to-normandy-paris-river-cruise-up-the-river-seine-13051
END:VEVENT

END:VCALENDAR
