BEGIN:VCALENDAR
VERSION:2.0
PRODID:-//ChamberMaster//Event Calendar 2.0//EN
METHOD:PUBLISH
X-PUBLISHED-TTL:P3D
REFRESH-INTERVAL:P3D
CALSCALE:GREGORIAN
BEGIN:VEVENT
DTSTART;VALUE=DATE:20240919
DTEND;VALUE=DATE:20240928
TRANSP:TRANSPARENT
X-MICROSOFT-CDO-ALLDAYEVENT:TRUE
SUMMARY:Urbandale Chamber's trip to Ancient Greece
DESCRIPTION:Explore Ancient Greece with the Urbandale Chamber!\n\n\n\nDeparting out of Des Moines\, Iowa\, the group will depart on September 19\, 2024 and arrive in Athens\, Greece the next day.  \n\n\n\nThis trip includes round trip airfare\, round trip transfers\, 7-nights at the King Saron Hotel\, an all-inclusive resort\, all meals while at the hotel\, a City tour of Athens\, a tour of the Parthenon & Acropolis\, Corinth Canal Crossing and a Full day in Mycenae\, Epidaurus & Nafplion.\n\n\n\nLearn more at the Chamber's informational session on July 18th at 5:30 p.m. either in person or virtually.  The discounted price of $3499 is available for any bookings made prior to December 31\, 2023.  The price increases to $3599 for deposits made between January 1\, 2024 - March 19\, 2024.  Full price is $3799 per person based on double occupancy.
X-ALT-DESC;FMTTYPE=text/html:<span style="box-sizing: border-box\; margin: 0px\; padding: 0px\; border: 0px\; outline: 0px\; font-size: 16px\; text-size-adjust: 100%\; vertical-align: baseline\; background-image: initial\; background-position: initial\; background-size: initial\; background-repeat: initial\; background-attachment: initial\; background-origin: initial\; background-clip: initial\; color: rgb(68\, 68\, 68)\; font-family: Arial\, Helvetica\, sans-serif\;"><span style="box-sizing: border-box\; margin: 0px\; padding: 0px\; border: 0px\; outline: 0px\; text-size-adjust: 100%\; vertical-align: baseline\; background: transparent\; color: rgb(0\, 100\, 0)\;"><span style="box-sizing: border-box\; margin: 0px\; padding: 0px\; border: 0px\; outline: 0px\; text-size-adjust: 100%\; vertical-align: baseline\; background: transparent\; font-weight: bolder\;">Explore Ancient Greece with the Urbandale Chamber!</span></span></span><br style="box-sizing: border-box\; color: rgb(68\, 68\, 68)\; font-family: Arial\, Helvetica\, sans-serif\; font-size: 14px\;" />\n<br style="box-sizing: border-box\; color: rgb(68\, 68\, 68)\; font-family: Arial\, Helvetica\, sans-serif\; font-size: 14px\;" />\n<span style="box-sizing: border-box\; margin: 0px\; padding: 0px\; border: 0px\; outline: 0px\; font-size: 14px\; text-size-adjust: 100%\; vertical-align: baseline\; background-image: initial\; background-position: initial\; background-size: initial\; background-repeat: initial\; background-attachment: initial\; background-origin: initial\; background-clip: initial\; color: rgb(68\, 68\, 68)\; font-family: Arial\, Helvetica\, sans-serif\;">Departing out of Des Moines\, Iowa\, the group will depart on September 19\, 2024 and arrive in Athens\, Greece the next day.&nbsp\;&nbsp\;<br style="box-sizing: border-box\;" />\n<br style="box-sizing: border-box\;" />\nThis trip includes round trip airfare\, round trip transfers\, 7-nights at the King Saron Hotel\, an all-inclusive resort\, all meals while at the hotel\, a City tour of Athens\, a tour of the Parthenon &amp\; Acropolis\, Corinth Canal Crossing and a Full day in Mycenae\, Epidaurus &amp\; Nafplion.</span><br style="box-sizing: border-box\; color: rgb(68\, 68\, 68)\; font-family: Arial\, Helvetica\, sans-serif\; font-size: 14px\;" />\n<br style="box-sizing: border-box\; color: rgb(68\, 68\, 68)\; font-family: Arial\, Helvetica\, sans-serif\; font-size: 14px\;" />\n<span style="color: rgb(68\, 68\, 68)\; font-family: Arial\, Helvetica\, sans-serif\; font-size: 14px\;">Learn more at the Chamber&#39\;s informational session on July 18th at 5:30 p.m. either in person or virtually.&nbsp\; The discounted price of $3499 is available for any bookings made prior to December 31\, 2023.&nbsp\; The price increases to $3599 for deposits made between January 1\, 2024 - March 19\, 2024.&nbsp\; Full price is $3799 per person based on double occupancy.</span>
LOCATION:
UID:e.1185.13050
SEQUENCE:3
DTSTAMP:20260421T074417Z
URL:http://business.uniquelyurbandale.com/events/details/urbandale-chamber-s-trip-to-ancient-greece-13050
END:VEVENT

END:VCALENDAR
