BEGIN:VCALENDAR
VERSION:2.0
PRODID:-//ChamberMaster//Event Calendar 2.0//EN
METHOD:PUBLISH
X-PUBLISHED-TTL:P3D
REFRESH-INTERVAL:P3D
CALSCALE:GREGORIAN
BEGIN:VEVENT
DTSTART:20231109T220000Z
DTEND:20231109T233000Z
X-MICROSOFT-CDO-ALLDAYEVENT:FALSE
SUMMARY:Urbandale Chamber and genYP New Member Social\, Presented By Midwest Family Lending & Comparion Insurance
DESCRIPTION:It's time to celebrate YOU! You and a guest are invited to a fun social for new members (both Chamber and genYP). This event is to recognize and welcome all new Chamber and genYP members covering the last year. We are excited to have you a part of the Urbandale Chamber!
X-ALT-DESC;FMTTYPE=text/html:<span style="font-size: 14px\;">It&#39\;s time to celebrate YOU! You and a guest are invited to a&nbsp\;fun social&nbsp\;for new members&nbsp\;(both Chamber and genYP).&nbsp\;</span>This event is to recognize and welcome all new Chamber and genYP members covering the last year. We are excited to have you a part of the Urbandale Chamber!&nbsp\;
LOCATION:Midwest Family Lending Corp. 2753 99th St. Urbandale\, IA 50322
UID:e.1185.13143
SEQUENCE:3
DTSTAMP:20260421T212336Z
URL:http://business.uniquelyurbandale.com/events/details/urbandale-chamber-and-genyp-new-member-social-presented-by-midwest-family-lending-comparion-insurance-13143
END:VEVENT

END:VCALENDAR
