BEGIN:VCALENDAR
VERSION:2.0
PRODID:-//ChamberMaster//Event Calendar 2.0//EN
METHOD:PUBLISH
X-PUBLISHED-TTL:P3D
REFRESH-INTERVAL:P3D
CALSCALE:GREGORIAN
BEGIN:VEVENT
DTSTART:20231012T163000Z
DTEND:20231012T210000Z
X-MICROSOFT-CDO-ALLDAYEVENT:FALSE
SUMMARY:UPLIFT Urbandale Project
DESCRIPTION:The Urbandale Uplift Project is a one-day\, afternoon event where volunteer teams donate their time to complete rewarding projects in the community. You and your company put together a team of volunteers usually your coworkers and colleagues and identify someone to serve as the team's captain. We've curated a list of projects for you to select from. The captain will claim a project for your team and coordinate the details with us. Projects benefit our area non-profits\, parks\, and service providers. \n\n\n\nGet a team together\, sign-up to volunteer as a team for a non-profit project\, show up and have fun!
X-ALT-DESC;FMTTYPE=text/html:<span style="color: rgb(2\, 2\, 2)\; font-family: robotoregular\; font-size: 16px\; text-align: center\; background-color: rgb(243\, 243\, 244)\;">The Urbandale Uplift Project is a one-day\, afternoon event where volunteer teams donate their time to&nbsp\;complete rewarding projects in the community. You and your company&nbsp\;put together a team of volunteers&mdash\;usually your coworkers and colleagues&mdash\;and identify someone&nbsp\;to serve as the&nbsp\;team&#39\;s captain.&nbsp\;We&#39\;ve curated a list of projects for you to select from. The captain will claim a project for your team and coordinate the details with us. Projects benefit our area non-profits\, parks\, and service providers.&nbsp\;<br />\n<br />\nGet a team together\, sign-up to volunteer as a team for a non-profit project\, show up and have fun!</span>
LOCATION:Giovanetti Shelter at Walker Johnson Park 8900 Douglas Ave Urbandale\, IA 50322
UID:e.1185.13075
SEQUENCE:3
DTSTAMP:20260422T001018Z
URL:http://business.uniquelyurbandale.com/events/details/uplift-urbandale-project-13075
END:VEVENT

END:VCALENDAR
