BEGIN:VCALENDAR
VERSION:2.0
PRODID:-//ChamberMaster//Event Calendar 2.0//EN
METHOD:PUBLISH
X-PUBLISHED-TTL:P3D
REFRESH-INTERVAL:P3D
CALSCALE:GREGORIAN
BEGIN:VEVENT
DTSTART:20231012T163000Z
DTEND:20231012T210000Z
X-MICROSOFT-CDO-ALLDAYEVENT:FALSE
SUMMARY:UPLIFT Day genYP Team
DESCRIPTION:The Urbandale Uplift Project is a one-day\, afternoon event where volunteer teams donate their time to complete rewarding projects in the community. You and other genYP members will put together a team of volunteers and identify and choose from a curated list of projects to choose from. The captain will claim your project and coordinate details. Projects benefit area non-profits\, parks and service providers.\n\n\n\nGenYP members will RSVP to be on one team to accomplish one project together. We will meet at Walker Johnston Park on October 12th at 11:30 to have lunch. You then will carpool to the project area at 1pm and stay until 4pm.
X-ALT-DESC;FMTTYPE=text/html:The Urbandale Uplift Project is a one-day\, afternoon event where volunteer teams donate their time to complete rewarding projects in the community. You and other genYP members will put together a team of volunteers and identify and choose from a curated list of projects to choose from. The captain will claim your project and coordinate details. Projects benefit area non-profits\, parks and service providers.<br />\n<br />\n<strong>GenYP members </strong>will RSVP to be on one team to accomplish one project together. We will meet at Walker Johnston Park on October 12th at 11:30 to have lunch. You then will carpool to the project area at 1pm and stay until 4pm.
LOCATION:Walker Johnson Park - Giovannetti Shelter (meeting spot) 9000 Douglas Ave Urbandale\, IA 50322
UID:e.1185.13118
SEQUENCE:3
DTSTAMP:20260421T224930Z
URL:http://business.uniquelyurbandale.com/events/details/uplift-day-genyp-team-13118
END:VEVENT

END:VCALENDAR
