BEGIN:VCALENDAR
VERSION:2.0
PRODID:-//ChamberMaster//Event Calendar 2.0//EN
METHOD:PUBLISH
X-PUBLISHED-TTL:P3D
REFRESH-INTERVAL:P3D
CALSCALE:GREGORIAN
BEGIN:VEVENT
DTSTART;VALUE=DATE:20231027
DTEND;VALUE=DATE:20231029
TRANSP:TRANSPARENT
X-MICROSOFT-CDO-ALLDAYEVENT:TRUE
SUMMARY:Unlock the Power to Save Lives and End Mental Health Stigma - Attend ASIST 2 Day Training
DESCRIPTION:Empower yourself to save lives\, break down mental health stigma\, and build the confidence to help those in crisis. Join our life-changing Applied Suicide Intervention Skills Training (ASIST) led by Jane Nady\, former Suicide Prevention Coordinator for the Iowa National Guard and founder of Imperfect Pathways. Together\, let's make a difference and create a community where everyone knows they are not alone.\n\n\n\nWhy Attend ASIST?\n\n\n\nSave Lives: ASIST equips you with the skills to recognize signs of distress and intervene effectively. Your actions could mean the world to someone in crisis.\n\nEnd Stigma: Together\, we can eliminate the stigma surrounding mental health. ASIST promotes a culture of empathy\, understanding\, and support.\n\nCommunity Impact: By attending\, you become part of a movement to create safer\, more compassionate communities. Your presence matters.\n\nGain Confidence: ASIST empowers you to approach someone in crisis with confidence and compassion. You'll be a beacon of hope.\n\n\n\nAbout Jane Nady:\n\nJane Nady\, our ASIST Certified Trainer\, brings a wealth of experience and dedication to this training. Having trained Iowa National Guard Soldiers in ASIST to help eliminate suicide in the military. She is now committed to spreading this knowledge far and wide. Her passion for saving lives and ending stigma shines through in every training. \n\n\n\nSeats are limited\, so register now to secure your spot. \n\nTo register or inquire about the ASIST training\, please contact https://www.eventbrite.com/e/720721917657?aff=oddtdtcreator\,  imperfectpathways@gmail.com or call 515-414-2306.\n\nJoin Imperfect Pathways\, save lives\, and make a lasting impact. Together\, we can end the stigma and show others they are not alone.
X-ALT-DESC;FMTTYPE=text/html:<span style="color:rgb(55\, 65\, 81)\; font-family:söhne\,ui-sans-serif\,system-ui\,-apple-system\,segoe ui\,roboto\,ubuntu\,cantarell\,noto sans\,sans-serif\,helvetica neue\,arial\,apple color emoji\,segoe ui emoji\,segoe ui symbol\,noto color emoji\; font-size:16px"><span style="background-color:#FFFFFF">Empower yourself to save lives\, break down mental health stigma\, and build the confidence to help those in crisis. Join our life-changing Applied Suicide Intervention Skills Training (ASIST) led by Jane Nady\, former Suicide Prevention Coordinator for the Iowa National Guard and founder of Imperfect Pathways. Together\, let&#39\;s make a difference and create a community where everyone knows they are not alone.</span></span><br />\n<br />\n<strong>Why Attend ASIST?</strong><br />\n<br />\n<strong>Save Lives</strong>: ASIST equips you with the skills to recognize signs of distress and intervene effectively. Your actions could mean the world to someone in crisis.<br />\n<strong>End Stigma</strong>: Together\, we can eliminate the stigma surrounding mental health. ASIST promotes a culture of empathy\, understanding\, and support.<br />\n<strong>Community Impact</strong>: By attending\, you become part of a movement to create safer\, more compassionate communities. Your presence matters.<br />\n<strong>Gain Confidence</strong>: ASIST empowers you to approach someone in crisis with confidence and compassion. You&#39\;ll be a beacon of hope.<br />\n<br />\n<strong>About Jane Nady:</strong><br />\nJane Nady\, our ASIST Certified Trainer\, brings a wealth of experience and dedication to this training. Having trained Iowa National Guard Soldiers in ASIST to help eliminate suicide in the military. She is now committed to spreading this knowledge far and wide. Her passion for saving lives and ending stigma shines through in every training.&nbsp\;<br />\n<br />\nSeats are limited\, so <strong>register now</strong> to secure your spot.&nbsp\;<br />\nTo register or inquire about the ASIST training\, please contact&nbsp\;<a href="https://www.eventbrite.com/e/720721917657?aff=oddtdtcreator">https://www.eventbrite.com/e/720721917657?aff=oddtdtcreator</a>\,&nbsp\;&nbsp\;<a href="mailto:imperfectpathways@gmail.com">imperfectpathways@gmail.com</a> or call 515-414-2306.<br />\nJoin Imperfect Pathways\, save lives\, and make a lasting impact. Together\, we can end the stigma and show others they are not alone.<br />\n&nbsp\;
LOCATION:3737 Woodland Ave. Suite 640 West Des Moines\, IA 50266
UID:e.1185.13213
SEQUENCE:3
DTSTAMP:20260422T001621Z
URL:http://business.uniquelyurbandale.com/events/details/unlock-the-power-to-save-lives-and-end-mental-health-stigma-attend-asist-2-day-training-13213
END:VEVENT

END:VCALENDAR
