BEGIN:VCALENDAR
VERSION:2.0
PRODID:-//ChamberMaster//Event Calendar 2.0//EN
METHOD:PUBLISH
X-PUBLISHED-TTL:P3D
REFRESH-INTERVAL:P3D
CALSCALE:GREGORIAN
BEGIN:VEVENT
DTSTART:20240321T140000Z
DTEND:20240321T160000Z
X-MICROSOFT-CDO-ALLDAYEVENT:FALSE
SUMMARY:TWI - Training Within Industry Workshop Featuring Job Instruction & Job Relations
DESCRIPTION:Training Within Industry (TWI) Workshop involving two skill sets. Job Instruction (JI) & Job Relations (JR)\n\n\n\nJob Instruction - To train workers quickly and effectively. It focuses on breaking down a job into manageable steps\, in a systematic way\, and continuously improving the process. This approach ensures employees understand their role\, tasks are completed accurately\, and productivity is enhanced. \n\n\n\nJob Relations - A leadership program that teaches supervisors how to manage relationships to prevent problems from occurring in the workplace. It provides a framework for addressing issues and conflicts promptly and fairly\, enhancing team morale\, and fostering a cooperative and productive work environment.
X-ALT-DESC;FMTTYPE=text/html:<strong>Training Within Industry (TWI) Workshop involving two skill sets. Job Instruction (JI) &amp\; Job Relations (JR)</strong><br />\n<br />\n<u><strong>Job Instruction</strong></u> - To train workers quickly and effectively. It focuses on breaking down a job into manageable steps\, in a systematic way\, and continuously improving the process. This approach ensures employees understand their role\, tasks are completed accurately\, and productivity is enhanced.&nbsp\;<br />\n<br />\n<u><strong>Job Relations</strong></u> - A leadership program that teaches supervisors how to manage relationships to prevent problems from occurring in the workplace. It provides a framework for addressing issues and conflicts promptly and fairly\, enhancing team morale\, and fostering a cooperative and productive work environment.
LOCATION:Urbandale Chamber 2830 100th St.\, Suite 110\, Urbandale\, IA 50322
UID:e.1185.15096
SEQUENCE:3
DTSTAMP:20260421T164147Z
URL:http://business.uniquelyurbandale.com/events/details/twi-training-within-industry-workshop-featuring-job-instruction-job-relations-03-21-2024-15096
END:VEVENT

END:VCALENDAR
