BEGIN:VCALENDAR
VERSION:2.0
PRODID:-//ChamberMaster//Event Calendar 2.0//EN
METHOD:PUBLISH
X-PUBLISHED-TTL:P3D
REFRESH-INTERVAL:P3D
CALSCALE:GREGORIAN
BEGIN:VEVENT
DTSTART:20260330T210000Z
DTEND:20260330T223000Z
X-MICROSOFT-CDO-ALLDAYEVENT:FALSE
SUMMARY:TRC Victory Party | The One Where We Celebrate
DESCRIPTION:So no one told you TRC would be this way   \n\n\n\nWe have so much to celebrate! Whether you're high-fiving your final goal or still in the "pivot" stage\, you've been an important part of this year's success   and we couldn't have done it without you.\n\nThis Victory Party is all about YOU\, so come\, relax\, and enjoy the fun! We've also invited the Board of Directors to join in the celebration   because great things happen when friends get together.\n\nFOOD & DRINKS will be provided (and yes\, we mean the kind Joey would share). Please RSVP so we can plan accordingly.  Hors d'oeuvres are from Hy-Vee in Windsor Heights\, so come hungry and ready to party!  They sponsored this party for you and Tonia\, the GM from the Windsor Heights Hy-Vee will be here to congratulate you on your success!
X-ALT-DESC;FMTTYPE=text/html:<p data-end="344" data-start="86"><span style="font-size:14px\;"><span style="font-family:verdana\;"><strong data-end="137" data-start="86">&#127926\; So no one told you TRC would be this way&hellip\; &#127926\;</strong><br data-end="140" data-start="137" />\n<br />\nWe have <em data-end="157" data-start="148">so much</em> to celebrate! Whether you&rsquo\;re high-fiving your final goal or still in the &ldquo\;pivot&rdquo\; stage\, you&rsquo\;ve been an important part of this year&rsquo\;s success &mdash\; and we couldn&rsquo\;t have done it without you.</span></span></p>\n\n<p data-end="549" data-start="346"><span style="font-size:14px\;"><span style="font-family:verdana\;">This <strong data-end="368" data-start="351">Victory Party</strong> is all about YOU\, so come\, relax\, and enjoy the fun! We&rsquo\;ve also invited the Board of Directors to join in the celebration &mdash\; because great things happen when friends get together.</span></span></p>\n\n<p data-end="743" data-start="551"><span style="font-size:14px\;"><span style="font-family:verdana\;"><strong data-end="568" data-start="551">FOOD &amp\; DRINKS</strong> will be provided (and yes\, we mean the kind Joey <em data-end="625" data-start="618">would</em> share). Please RSVP so we can plan accordingly.</span></span><span font-size:="" google="" style="color: rgb(0\, 29\, 53)\; font-family: ">&nbsp\;</span><span style="font-size:14px\;"><span style="font-family:verdana\;">&nbsp\;Hors d&#39\;oeuvres are&nbsp\;from <a href="https://businesses.uniquelyurbandale.com/list/member/hy-vee-windsor-heights-10025"><strong data-end="705" data-start="689">Hy-Vee in Windsor Heights</strong></a>\, so come hungry and ready to party!&nbsp\; They sponsored this party for you and Tonia\, the GM from the Windsor Heights Hy-Vee will be here to congratulate you on your success!</span></span></p>\n
LOCATION:Urbandale Chamber of Commerce Aisha R. Syed Board Room REALTOR | Iowa Realty 2830 100th St.\, Suite 110\,Urbandale\, IA 50322
UID:e.1185.17366
SEQUENCE:3
DTSTAMP:20260421T150521Z
URL:http://business.uniquelyurbandale.com/events/details/trc-victory-party-the-one-where-we-celebrate-17366
END:VEVENT

END:VCALENDAR
