BEGIN:VCALENDAR
VERSION:2.0
PRODID:-//ChamberMaster//Event Calendar 2.0//EN
METHOD:PUBLISH
X-PUBLISHED-TTL:P3D
REFRESH-INTERVAL:P3D
CALSCALE:GREGORIAN
BEGIN:VEVENT
DTSTART:20250324T203000Z
DTEND:20250324T220000Z
X-MICROSOFT-CDO-ALLDAYEVENT:FALSE
SUMMARY:TRC Victory Party!!
DESCRIPTION:We have so much to celebrate! No matter where you are on your goal for this year's TRC\, you have played a part in this year's success!  THANK YOU for all of your work - this Victory Party is being thrown in your honor so please come and enjoy!  We've also invited the Board of Directors to come to celebrate with you!\n\n\n\nFOOD & DRINKS will be provided Please RSVP so we can plan accordingly! We hope to see you there!  Food is from Pelican Post so come hungry!
X-ALT-DESC;FMTTYPE=text/html:<h2 style="font-style:italic\;"><span style="font-family:tahoma\;"><span style="font-size: 14px\;">We have so much to celebrate! No matter where you are on your goal for this year&#39\;s TRC\, you have played a part in this year&#39\;s success!&nbsp\; THANK YOU for all of your work - this Victory Party is being thrown in your honor so please come and enjoy!&nbsp\; We&#39\;ve also invited the Board of Directors to come to celebrate with you!</span><br />\n<br />\n<span style="font-size: 14px\;">FOOD &amp\; DRINKS will be provided Please RSVP so we can plan accordingly!&nbsp\;We hope to see you there!&nbsp\; Food is from Pelican Post&nbsp\;so come hungry!&nbsp\;</span></span></h2>\n
LOCATION:Urbandale Chamber of Commerce Aisha R. Syed Board Room REALTOR | Iowa Realty 2830 100th St.\, Suite 110\,Urbandale\, IA 50322
UID:e.1185.15841
SEQUENCE:3
DTSTAMP:20260421T055256Z
URL:http://business.uniquelyurbandale.com/events/details/trc-victory-party-15841
END:VEVENT

END:VCALENDAR
