BEGIN:VCALENDAR
VERSION:2.0
PRODID:-//ChamberMaster//Event Calendar 2.0//EN
METHOD:PUBLISH
X-PUBLISHED-TTL:P3D
REFRESH-INTERVAL:P3D
CALSCALE:GREGORIAN
BEGIN:VEVENT
DTSTART:20260122T210000Z
DTEND:20260122T230000Z
X-MICROSOFT-CDO-ALLDAYEVENT:FALSE
SUMMARY:TRC Training (for returning volunteers ONLY)
DESCRIPTION:This TRC training is for returning Total Resource Campaign (TRC) volunteers ONLY. \n\n\n\nThis training skips the training that involves how the campaign works and just focuses on the sponsorships available\, the new website\, and any updates from the year before.
X-ALT-DESC;FMTTYPE=text/html:<strong>This TRC training is for returning Total Resource Campaign (TRC) volunteers ONLY.&nbsp\;</strong><br />\n<br />\nThis training skips the training that involves how the campaign works and just focuses on the sponsorships available\, the new website\, and any updates from the year before.&nbsp\;<br />\n&nbsp\;
LOCATION:Urbandale Chamber of Commerce | 2830 100th St.\, Ste. 110 Aisha R. Syed Board Room Realtor | Iowa Realty
UID:e.1185.17358
SEQUENCE:3
DTSTAMP:20260421T162526Z
URL:http://business.uniquelyurbandale.com/events/details/trc-training-for-returning-volunteers-only-17358
END:VEVENT

END:VCALENDAR
