BEGIN:VCALENDAR
VERSION:2.0
PRODID:-//ChamberMaster//Event Calendar 2.0//EN
METHOD:PUBLISH
X-PUBLISHED-TTL:P3D
REFRESH-INTERVAL:P3D
CALSCALE:GREGORIAN
BEGIN:VEVENT
DTSTART:20260121T200000Z
DTEND:20260121T230000Z
X-MICROSOFT-CDO-ALLDAYEVENT:FALSE
SUMMARY:TRC Training (2-5 p.m.)
DESCRIPTION:This event is for Total Resource Campaign (TRC) Volunteers. Select ONE of the offered training sessions available. \n\n\n\nEvery volunteer MUST go through one of the trainings offered before they are able to meet with members for the campaign. \n\n\n\nTraining will cover every aspect of this campaign and answer any questions volunteers have before TRC officially kicks off on Friday\, January 23\, 2026.
X-ALT-DESC;FMTTYPE=text/html:This event is for Total Resource Campaign (TRC) Volunteers. Select ONE of the offered training sessions available.&nbsp\;<br />\n<br />\nEvery volunteer <strong>MUST </strong>go through <strong>one </strong>of the trainings offered before they are able to meet with members for the campaign.&nbsp\;<br />\n<br />\nTraining will cover&nbsp\;every aspect of this campaign and answer any questions volunteers have before&nbsp\;TRC officially kicks off on Friday\, January 23\, 2026.<span _fck_bookmark="1" style="display: none">&nbsp\;</span>
LOCATION:Urbandale Chamber of Commerce\, 2830 100th St.\, Ste. 110 Aisha R. Syed Board Room Realtor | Iowa Realty
UID:e.1185.17359
SEQUENCE:3
DTSTAMP:20260421T173745Z
URL:http://business.uniquelyurbandale.com/events/details/trc-training-2-5-p-m-17359
END:VEVENT

END:VCALENDAR
