BEGIN:VCALENDAR
VERSION:2.0
PRODID:-//ChamberMaster//Event Calendar 2.0//EN
METHOD:PUBLISH
X-PUBLISHED-TTL:P3D
REFRESH-INTERVAL:P3D
CALSCALE:GREGORIAN
BEGIN:VEVENT
DTSTART:20260302T180000Z
DTEND:20260302T190000Z
X-MICROSOFT-CDO-ALLDAYEVENT:FALSE
SUMMARY:TRC Rally | How You Doin’… with Your Sales?
DESCRIPTION:How YOU doin'\, TRC Volunteers?  It is the final push!\n\nIt's time to rally for the 2026 TRC Campaign! Sure\, these rallies aren't required\, but c'mon   they're a blast and you're gonna wanna be there.\n\nThis is the perfect time to get your questions answered\, reconnect with your crew\, snag your weekly incentives\, score some sweet prizes\, and just  you know  win stuff.\n\nAnd the best part? FOOD. This week's catering is from F&O's which is A-MAZING\, and as Joey always says   "Joey doesn't share food!" (But luckily\, we will  if you RSVP.)  This meal is 100% Joey-approved!\n\nSo reserve your spot\, tell us if you've got any food allergies\, and get ready for good times\, good prizes\, and good eats.
X-ALT-DESC;FMTTYPE=text/html:<p data-end="91" data-start="55"><span style="font-size:14px\;"><span style="font-family:verdana\;"><strong data-end="89" data-start="55">How YOU doin&rsquo\;\, TRC Volunteers?&nbsp\; It is the final push!</strong></span></span></p>\n\n<p data-end="240" data-start="93"><span style="font-size:14px\;"><span style="font-family:verdana\;">It&rsquo\;s time to rally for the 2026 TRC Campaign! Sure\, these rallies aren&rsquo\;t <em data-end="176" data-start="166">required</em>\, but c&rsquo\;mon &mdash\; they&rsquo\;re a blast and you&rsquo\;re gonna wanna be there.</span></span></p>\n\n<p data-end="413" data-start="242"><span style="font-size:14px\;"><span style="font-family:verdana\;">This is the perfect time to get your questions answered\, reconnect with your crew\, snag your weekly incentives\, score some sweet prizes\, and just&hellip\; you know&hellip\; <em data-end="411" data-start="399">win stuff.</em></span></span></p>\n\n<p data-end="577" data-start="415"><span style="font-size:14px\;"><span style="font-family:verdana\;">And the best part? <strong data-end="443" data-start="434">FOOD.</strong> This week&rsquo\;s catering is from <a href="https://businesses.uniquelyurbandale.com/list/member/felix-oscars-4175">F&amp\;O&#39\;s</a> which is A-MAZING\, and as Joey always says &mdash\; <em data-end="538" data-start="510">&ldquo\;Joey doesn&rsquo\;t share food!&rdquo\;</em> (But luckily\, we will&hellip\; if you RSVP.)&nbsp\; This meal is 100% Joey-approved!</span></span></p>\n\n<p data-end="702" data-start="579"><span style="font-size:14px\;"><span style="font-family:verdana\;">So reserve your spot\, tell us if you&rsquo\;ve got any food allergies\, and get ready for good times\, good prizes\, and good eats.</span></span></p>\n
LOCATION:Urbandale Chamber of Commerce Aisha R. Syed Board Room REALTOR | Iowa Realty 2830 100th St.\, Suite 110\,Urbandale\, IA 50322
UID:e.1185.17365
SEQUENCE:3
DTSTAMP:20260421T145713Z
URL:http://business.uniquelyurbandale.com/events/details/trc-rally-how-you-doin-with-your-sales-17365
END:VEVENT

END:VCALENDAR
