BEGIN:VCALENDAR
VERSION:2.0
PRODID:-//ChamberMaster//Event Calendar 2.0//EN
METHOD:PUBLISH
X-PUBLISHED-TTL:P3D
REFRESH-INTERVAL:P3D
CALSCALE:GREGORIAN
BEGIN:VEVENT
DTSTART:20230926T223000Z
DTEND:20230927T000000Z
X-MICROSOFT-CDO-ALLDAYEVENT:FALSE
SUMMARY:Travel Document Party | October 11 Departure To Scotland
DESCRIPTION:The Urbandale and Grimes Chambers invite you to join us for an informational document party to discuss our upcoming trip to Scotland!  We are holding this event at 5:30 p.m. at the Urbandale Chamber of Commerce office or you may join virtually.\n\n\n\nImmediately following the informational session\, we have planned a special treat.  Tom Clegg has been invited to join us to provide a Scotch tasting for anyone interested in learning a bit more about Scotch whisky from the three primary regions we will be visiting.\n\n\n\nThe Scotch tasting is optional.  For planning purposes\, please let us know either way if you plan to attend the Scotch tasting or depart after the informational session.
X-ALT-DESC;FMTTYPE=text/html:The Urbandale and Grimes Chambers invite you to join us for an informational document party to discuss our upcoming trip to Scotland!&nbsp\; We are holding this event at 5:30 p.m. at the Urbandale Chamber of Commerce office or you may join virtually.<br />\n<br />\nImmediately following the informational session\, we have planned a special treat.&nbsp\; Tom Clegg has been invited to join us to provide a Scotch tasting for anyone interested in learning a bit more about Scotch whisky from the three primary regions we will be visiting.<br />\n<br />\nThe Scotch tasting is <strong>optional</strong>.&nbsp\; For planning purposes\, please let us know either way if you plan to attend the Scotch tasting or depart after the informational session.&nbsp\; &nbsp\;
LOCATION:Urbandale Chamber of Commerce Aisha R. Syed Board Room Realtor | Iowa Realty 2830 100th St.\, Ste. 110 Urbandale\, IA 50322 OR Online using Teams (Link will send following registration)
UID:e.1185.13142
SEQUENCE:3
DTSTAMP:20260422T003156Z
URL:http://business.uniquelyurbandale.com/events/details/travel-document-party-october-11-departure-to-scotland-13142
END:VEVENT

END:VCALENDAR
