BEGIN:VCALENDAR
VERSION:2.0
PRODID:-//ChamberMaster//Event Calendar 2.0//EN
METHOD:PUBLISH
X-PUBLISHED-TTL:P3D
REFRESH-INTERVAL:P3D
CALSCALE:GREGORIAN
BEGIN:VEVENT
DTSTART:20230713T230000Z
DTEND:20230714T010000Z
X-MICROSOFT-CDO-ALLDAYEVENT:FALSE
SUMMARY:Touch a Truck
DESCRIPTION:Join us for our another National Night Out Pre-Party Event!\n\nOn July 13th\, 2023 from 6:00-8:00PM the Urbandale Police Department will be hosting a Touch a Truck Event in the front lot of the police department\, located at 3740 86th Street\, Urbandale\, IA.\n\nThis pre-party will be benefitting our friends at the Urbandale Food Pantry. Please bring your non-perishable food or personal items to donate for this totally FREE event!\n\n***BONUS***\n\nThe first 100 attendees will cool off with a special treat from Totally Rolled Ice Cream ON US!
X-ALT-DESC;FMTTYPE=text/html:<span style="color: rgb(5\, 5\, 5)\; font-family: &quot\;Segoe UI Historic&quot\;\, &quot\;Segoe UI&quot\;\, Helvetica\, Arial\, sans-serif\; font-size: 15px\;">Join us for our another National Night Out Pre-Party Event!</span><br style="color: rgb(5\, 5\, 5)\; font-family: &quot\;Segoe UI Historic&quot\;\, &quot\;Segoe UI&quot\;\, Helvetica\, Arial\, sans-serif\; font-size: 15px\;" />\n<span style="color: rgb(5\, 5\, 5)\; font-family: &quot\;Segoe UI Historic&quot\;\, &quot\;Segoe UI&quot\;\, Helvetica\, Arial\, sans-serif\; font-size: 15px\;">On July 13th\, 2023 from 6:00-8:00PM the Urbandale Police Department will be hosting a Touch a Truck Event in the front lot of the police department\, located at 3740 86th Street\, Urbandale\, IA.</span><br style="color: rgb(5\, 5\, 5)\; font-family: &quot\;Segoe UI Historic&quot\;\, &quot\;Segoe UI&quot\;\, Helvetica\, Arial\, sans-serif\; font-size: 15px\;" />\n<span style="color: rgb(5\, 5\, 5)\; font-family: &quot\;Segoe UI Historic&quot\;\, &quot\;Segoe UI&quot\;\, Helvetica\, Arial\, sans-serif\; font-size: 15px\;">This pre-party will be benefitting our friends at the Urbandale Food Pantry. Please bring your non-perishable food or personal items to donate for this totally FREE event!</span><br style="color: rgb(5\, 5\, 5)\; font-family: &quot\;Segoe UI Historic&quot\;\, &quot\;Segoe UI&quot\;\, Helvetica\, Arial\, sans-serif\; font-size: 15px\;" />\n<span style="color: rgb(5\, 5\, 5)\; font-family: &quot\;Segoe UI Historic&quot\;\, &quot\;Segoe UI&quot\;\, Helvetica\, Arial\, sans-serif\; font-size: 15px\;">***BONUS***</span><br style="color: rgb(5\, 5\, 5)\; font-family: &quot\;Segoe UI Historic&quot\;\, &quot\;Segoe UI&quot\;\, Helvetica\, Arial\, sans-serif\; font-size: 15px\;" />\n<span style="color: rgb(5\, 5\, 5)\; font-family: &quot\;Segoe UI Historic&quot\;\, &quot\;Segoe UI&quot\;\, Helvetica\, Arial\, sans-serif\; font-size: 15px\;">The first 100 attendees will cool off with a special treat from Totally Rolled Ice Cream ON US!</span><span style="color: rgb(5\, 5\, 5)\; font-family: &quot\;Segoe UI Historic&quot\;\, &quot\;Segoe UI&quot\;\, Helvetica\, Arial\, sans-serif\; font-size: 15px\;">&nbsp\;</span>
LOCATION:Urbandale Police Department 3740 86th St Urbandale\, IA
UID:e.1185.13111
SEQUENCE:3
DTSTAMP:20260422T060612Z
URL:http://business.uniquelyurbandale.com/events/details/touch-a-truck-13111
END:VEVENT

END:VCALENDAR
