BEGIN:VCALENDAR
VERSION:2.0
PRODID:-//ChamberMaster//Event Calendar 2.0//EN
METHOD:PUBLISH
X-PUBLISHED-TTL:P3D
REFRESH-INTERVAL:P3D
CALSCALE:GREGORIAN
BEGIN:VEVENT
DTSTART:20230909T150000Z
DTEND:20230909T180000Z
X-MICROSOFT-CDO-ALLDAYEVENT:FALSE
SUMMARY:Touch A Truck
DESCRIPTION:Des Moines Children's Museum presents our annual Touch A Truck event. Get up close to big trucks and enjoy sensory activities from the Children's Museum. 9:30 - 10 a.m. will feature a Sensory Friendly Touch A Truck time\, where lights on the trucks will be off and horns/sirens kept to a minimum. A calming tent will be offered throughout the entire event. Free for the community.
X-ALT-DESC;FMTTYPE=text/html:Des Moines Children&#39\;s Museum presents our annual Touch A Truck event. Get up close to big trucks and enjoy sensory activities from the Children&#39\;s Museum. 9:30 - 10 a.m. will feature a Sensory Friendly Touch A Truck time\, where lights on the trucks will be off and horns/sirens kept to a minimum. A calming tent will be offered throughout the entire event. Free for the community.
LOCATION:Valley West Mall SW parking lot
UID:e.1185.13144
SEQUENCE:3
DTSTAMP:20260422T003018Z
URL:http://business.uniquelyurbandale.com/events/details/touch-a-truck-09-09-2023-13144
END:VEVENT

END:VCALENDAR
