BEGIN:VCALENDAR
VERSION:2.0
PRODID:-//ChamberMaster//Event Calendar 2.0//EN
METHOD:PUBLISH
X-PUBLISHED-TTL:P3D
REFRESH-INTERVAL:P3D
CALSCALE:GREGORIAN
BEGIN:VEVENT
DTSTART:20240109T170000Z
DTEND:20240109T190000Z
X-MICROSOFT-CDO-ALLDAYEVENT:FALSE
SUMMARY:Tom Hofer & The Iowa Playboys
DESCRIPTION:FREE LIVE ENTERTAINMENT\n\nGenre: Jazz
X-ALT-DESC;FMTTYPE=text/html:<p>FREE LIVE ENTERTAINMENT</p>\n\n<p>Genre: Jazz</p>\n
LOCATION:Prairie Meadows Racetrack and Casino Finish Line Show Lounge (casino level 2)
UID:e.1185.13632
SEQUENCE:3
DTSTAMP:20260421T182016Z
URL:http://business.uniquelyurbandale.com/events/details/tom-hofer-the-iowa-playboys-13632
END:VEVENT

END:VCALENDAR
