BEGIN:VCALENDAR
VERSION:2.0
PRODID:-//ChamberMaster//Event Calendar 2.0//EN
METHOD:PUBLISH
X-PUBLISHED-TTL:P3D
REFRESH-INTERVAL:P3D
CALSCALE:GREGORIAN
BEGIN:VEVENT
DTSTART:20240227T170000Z
DTEND:20240227T190000Z
X-MICROSOFT-CDO-ALLDAYEVENT:FALSE
SUMMARY:Tom Hofer & The Iowa Playboys
DESCRIPTION:FREE LIVE ENTERTAINMENT\n\nGenre: Classic Country
X-ALT-DESC;FMTTYPE=text/html:<p>FREE LIVE ENTERTAINMENT</p>\n\n<p>Genre: Classic Country</p>\n
LOCATION:Prairie Meadows Racetrack and Casino Finish Line Show Lounge (casino level 2)
UID:e.1185.13646
SEQUENCE:3
DTSTAMP:20260421T165901Z
URL:http://business.uniquelyurbandale.com/events/details/tom-hofer-the-iowa-playboys-02-27-2024-13646
END:VEVENT

END:VCALENDAR
