BEGIN:VCALENDAR
VERSION:2.0
PRODID:-//ChamberMaster//Event Calendar 2.0//EN
METHOD:PUBLISH
X-PUBLISHED-TTL:P3D
REFRESH-INTERVAL:P3D
CALSCALE:GREGORIAN
BEGIN:VEVENT
DTSTART:20240212T220000Z
DTEND:20240212T230000Z
X-MICROSOFT-CDO-ALLDAYEVENT:FALSE
SUMMARY:Third TRC Rally
DESCRIPTION:Attention TRC volunteers!  It is time to rally for the 2024 TRC Campaign!  These rallies are not required to attend\, however they are a lot of fun and strongly encouraged.\n\n\n\nThe TRC rally is the perfect time to get your questions answered\, re-connect with your team\, receive your incentives for the week\, pick up some awesome prizes and more!  You don't want to miss these sessions.  Snacks and drinks are provided so reservations are required.
X-ALT-DESC;FMTTYPE=text/html:<font face="arial"><span style="font-size: 14px\;">Attention TRC volunteers!&nbsp\; It is time to rally for the 2024 TRC Campaign!&nbsp\; These rallies are not required to attend\, however they are a lot of fun and strongly encouraged.</span></font><br />\n<br />\n<font face="arial"><span style="font-size: 14px\;">The TRC rally is the perfect time to get your questions answered\, re-connect with your team\, receive your incentives for the week\, pick up some awesome prizes and more!&nbsp\; You don&#39\;t want to miss these sessions.&nbsp\; </span></font><b style="font-family: arial\; font-size: 14px\;">Snacks and drinks are provided so reservations are required.&nbsp\; &nbsp\;&nbsp\;</b>
LOCATION:Urbandale Chamber of Commerce Aisha R. Syed Board Room REALTOR | Iowa Realty 2830 100th St.\, Suite 110\,Urbandale\, IA 50322
UID:e.1185.14750
SEQUENCE:3
DTSTAMP:20260421T165344Z
URL:http://business.uniquelyurbandale.com/events/details/third-trc-rally-14750
END:VEVENT

END:VCALENDAR
