BEGIN:VCALENDAR
VERSION:2.0
PRODID:-//ChamberMaster//Event Calendar 2.0//EN
METHOD:PUBLISH
X-PUBLISHED-TTL:P3D
REFRESH-INTERVAL:P3D
CALSCALE:GREGORIAN
BEGIN:VEVENT
DTSTART:20230425T210000Z
DTEND:20230425T230000Z
X-MICROSOFT-CDO-ALLDAYEVENT:FALSE
SUMMARY:The Ties that Bind: Networking with Style Book Signing with Danny Beyer
DESCRIPTION:Please join the Urbandale Chamber\, West Des Moines Chamber and FuseDSM for a book signing with Danny Beyer launching the NEW Edition! the Ties that Bind networking with style\n\n\n\nEveryone has a network\, and in today's interconnected world\, networking happens all the time. The Ties that Bind provides strategies and ideas for anyone\, from those new to networking to seasoned professionals\, in an easy-to-follow\, story-telling guide. Learn how to navigate the networking landscape. Find out how to make the most of existing connections. Discover how to build real\, lasting relationships. Use platforms like Facebook\, Twitter\, and LinkedIn to build your brand and expand your reach. A good network can turn dreams into reality if used properly. The Ties that Bind will show you how.
X-ALT-DESC;FMTTYPE=text/html:<span style="color:#4B0082\;"><span style="font-size:20px\;"><span style="font-family:tahoma\;"><span style="font-size:16px\;">Please join the Urbandale Chamber\, West Des Moines Chamber and FuseDSM for a book signing with Danny Beyer launching the&nbsp\;</span></span><strong><span style="font-family:tahoma\;">NEW Edition! the Ties that Bind</span></strong></span> <span style="font-size:20px\;"><span style="font-family:comic sans ms\;"><em>networking with style</em></span></span></span><br />\n<br />\n<span style="color: rgb(15\, 17\, 17)\; font-family: &quot\;Amazon Ember&quot\;\, Arial\, sans-serif\; font-size: 14px\;">Everyone has a network\, and in today&rsquo\;s interconnected world\, networking happens all the time.&nbsp\;</span><span style="color: rgb(15\, 17\, 17)\; font-family: &quot\;Amazon Ember&quot\;\, Arial\, sans-serif\; font-size: 14px\;">The Ties that Bind provides strategies and ideas for anyone\, from those new to networking to seasoned professionals\, in an easy-to-follow\, story-telling guide. Learn how to navigate the networking landscape. Find out how to make the most of existing connections. Discover how to build real\, lasting relationships. Use platforms like Facebook\, Twitter\, and LinkedIn to build your brand and expand your reach. A good network can turn dreams into reality if used properly. The Ties that Bind will show you how.</span>
LOCATION:ATW Training Solutions 4309 121st St. Urbandale\, IA Located in the Interstate Battery Building
UID:e.1185.13024
SEQUENCE:3
DTSTAMP:20260422T104028Z
URL:http://business.uniquelyurbandale.com/events/details/the-ties-that-bind-networking-with-style-book-signing-with-danny-beyer-13024
END:VEVENT

END:VCALENDAR
