BEGIN:VCALENDAR
VERSION:2.0
PRODID:-//ChamberMaster//Event Calendar 2.0//EN
METHOD:PUBLISH
X-PUBLISHED-TTL:P3D
REFRESH-INTERVAL:P3D
CALSCALE:GREGORIAN
BEGIN:VEVENT
DTSTART:20230928T163000Z
DTEND:20230928T180000Z
X-MICROSOFT-CDO-ALLDAYEVENT:FALSE
SUMMARY:The Success Luncheon\, She is the future
DESCRIPTION:She is the future.\n\nThese are the women Dress for Success Des Moines will celebrate at our upcoming event\, The Success Luncheon\, presented by Sammons Financial Group.\n\nOn September 28\, a roomful of Des Moines' most dynamic women and men will meet mid-day to hear the inspiring stories of women on their career journeys.\n\nAn awe-inspiring event\, The Success Luncheon\, raises funds and support to benefit Dress for Success Des Moines.\n\nThe Luncheon will kick-off at 11:30 and tickets include lunch\, program and keynote speaker Alicia Economos.\n\nWe are supported by a strong volunteer base\, an active community and many corporations. Since opening our doors in 2011\, Dress for Success Des Moines has served over 3000 women who are supporting more than 6\,500 children in the Des Moines community.\n\nIn the past five years\, we have supported women obtaining employment who are making an economic impact in Des Moines of over $51\,000\,000.  When you help a woman get a job\, she is able to support not only herself\, but her family.\n\nAs a valued member of our community\, Dress for Success Des Moines invites you to become one of our corporate sponsors for the 2023 Success Luncheon. The Success Luncheon\, themed "She is the future\," is our annual fundraising and educational event.  Your financial support is essential for our programming to continue empowering women in our community.\n\nSponsorship opportunities are available at several support levels and may include program\n\nadvertising\, recognition at the event\, pre-event social media posts\, and luncheon seating\n\nfor guests.\n\nIndividual tickets will open up July 6.\n\nQuestions about the event?  Please reach out to a committee member at desmoines@dressforsuccess.org.\n\nEvent co-chairs: Rebekah Brandmeyer and Tabitha Bleich\n\nCommittee members: Julie Wolfe\, Carole Chambers\, Jody White\, Bobbi Segura\n\nEMBRACE. EMPOWER. EMPLOY.\n\nThe mission of Dress for Success is to empower women to achieve economic independence by providing a network of support\, professional attire and the development tools to help women thrive in work and in life. By empowering women with interview and work attire\, and through the mentoring\, networking and support services offered\, we aim to be a welcoming\, accessible organization with a strong reputation for successfully assisting women with their transition to employment.
X-ALT-DESC;FMTTYPE=text/html:<p>She is the future.</p>\n\n<p>These are the women Dress for Success Des Moines will celebrate at our upcoming event\, The Success Luncheon\, presented by Sammons Financial Group.</p>\n\n<p>On September 28\, a roomful&nbsp\;of Des Moines&rsquo\; most dynamic women and men will meet mid-day to hear the inspiring stories of women on their career journeys.</p>\n\n<p>An awe-inspiring event\, The Success Luncheon\, raises funds and support to benefit Dress for Success Des Moines.</p>\n\n<p>The Luncheon will kick-off at 11:30 and tickets include lunch\, program and keynote speaker Alicia Economos.</p>\n\n<p>We are supported by a strong volunteer base\, an active community and many corporations. Since opening our doors in 2011\, Dress for Success Des Moines has served over 3000 women who are supporting more than 6\,500 children in the Des Moines community.</p>\n\n<p>In the past five years\, we have supported women obtaining employment who are making an economic impact in Des Moines of over $51\,000\,000.&nbsp\; When you help a woman get a job\, she is able to support not only herself\, but her family.</p>\n\n<p>As a valued member of our community\, Dress for Success Des Moines invites you to become one of our corporate sponsors for the 2023 Success Luncheon. The Success Luncheon\, themed &ldquo\;She is the future\,&rdquo\; is our annual fundraising and educational event.&nbsp\; Your financial support is essential for our programming to continue empowering women in our community.</p>\n\n<p>Sponsorship opportunities are available at several support levels and may include program<br />\nadvertising\, recognition at the event\, pre-event social media posts\, and luncheon seating<br />\nfor guests.</p>\n\n<p>Individual tickets will open up July 6.</p>\n\n<p>Questions about the event?&nbsp\; Please reach out to a committee member at&nbsp\;<a href="mailto:desmoines@dressforsuccess.org" style="box-sizing: border-box\; background: transparent\; color: rgb(180\, 44\, 51)\; text-decoration-line: none\;">desmoines@dressforsuccess.org</a>.</p>\n\n<p>Event co-chairs: Rebekah Brandmeyer and Tabitha Bleich</p>\n\n<p>Committee members: Julie Wolfe\, Carole Chambers\, Jody White\, Bobbi Segura</p>\n\n<p>EMBRACE. EMPOWER. EMPLOY.</p>\n\n<p>The mission of Dress for Success is to empower women to achieve economic independence by providing a network of support\, professional attire and the development tools to help women thrive in work and in life. By empowering women with interview and work attire\, and through the mentoring\, networking and support services offered\, we aim to be a welcoming\, accessible organization with a strong reputation for successfully assisting women with their transition to employment.</p>\n
LOCATION:The Hilton Des Moines - Downtown
UID:e.1185.13127
SEQUENCE:3
DTSTAMP:20260422T002958Z
URL:http://business.uniquelyurbandale.com/events/details/the-success-luncheon-she-is-the-future-13127
END:VEVENT

END:VCALENDAR
