BEGIN:VCALENDAR
VERSION:2.0
PRODID:-//ChamberMaster//Event Calendar 2.0//EN
METHOD:PUBLISH
X-PUBLISHED-TTL:P3D
REFRESH-INTERVAL:P3D
CALSCALE:GREGORIAN
BEGIN:VEVENT
DTSTART:20230305T000000Z
DTEND:20230305T030000Z
X-MICROSOFT-CDO-ALLDAYEVENT:FALSE
SUMMARY:The Success Gala: Celebrating HerStory\, 10 years of Success.
DESCRIPTION:Dress for Success Des Moines is excited to announce The Success Gala: Celebrating HerStory\, 10 years of Success. The gala will be held at Toast Prairie Trail Ankeny on March 4\, 2023 6-9pm. The mission of Dress for Success Des Moines is to empower women to achieve economic independence by providing a network of support\, professional attire and the development tools to help women thrive in work and in life. Since it opened in 2011\, Dress For Success Des Moines has helped over 3000 women who are themselves supporting more than 6200 children. Cocktail attire Silent and live auction For more information or to become a sponsor for this event: https://secure.givelively.org/event/dress-for-success-des-moines/the-success-gala-celebrating-herstory-10-years-of-success Location details
X-ALT-DESC;FMTTYPE=text/html:Dress for Success Des Moines is excited to announce The Success Gala: Celebrating HerStory\, 10 years of Success. The gala will be held at Toast Prairie Trail Ankeny on March 4\, 2023 6-9pm. The mission of Dress for Success Des Moines is to empower women to achieve economic independence by providing a network of support\, professional attire and the development tools to help women thrive in work and in life. Since it opened in 2011\, Dress For Success Des Moines has helped over 3000 women who are themselves supporting more than 6200 children. Cocktail attire Silent and live auction For more information or to become a sponsor for this event: https://secure.givelively.org/event/dress-for-success-des-moines/the-success-gala-celebrating-herstory-10-years-of-success Location details
LOCATION:Toast at Prairie Trail 1345 SW Park Square Dr. Ankeny IA 50023
UID:e.1185.12725
SEQUENCE:3
DTSTAMP:20260422T122308Z
URL:http://business.uniquelyurbandale.com/events/details/the-success-gala-celebrating-herstory-10-years-of-success-12725
END:VEVENT

END:VCALENDAR
