BEGIN:VCALENDAR
VERSION:2.0
PRODID:-//ChamberMaster//Event Calendar 2.0//EN
METHOD:PUBLISH
X-PUBLISHED-TTL:P3D
REFRESH-INTERVAL:P3D
CALSCALE:GREGORIAN
BEGIN:VEVENT
DTSTART:20250105T020000Z
DTEND:20250105T050000Z
X-MICROSOFT-CDO-ALLDAYEVENT:FALSE
SUMMARY:The People's Band
DESCRIPTION:The People's Band is a Des Moines based supergroup of seasoned musicians. Their performances include\n\na variety of your favorite hits from Rock\, R&B\, and everything in between. Don't miss this high-energy\n\nband in the Finish Line Show Lounge.
X-ALT-DESC;FMTTYPE=text/html:<span style="font-family:calibri\,sans-serif"><span style="font-size:11.0pt">The People&rsquo\;s Band is a Des Moines based supergroup of seasoned musicians. Their performances include<br />\na variety of your favorite hits from Rock\, R&amp\;B\, and everything in between. Don&rsquo\;t miss this high-energy<br />\nband in the Finish Line Show Lounge.</span></span>
LOCATION:Prairie Meadows Casino & Racetrack 1 Prairie Meadows Dr\, Altoona\, IA 50009
UID:e.1185.16057
SEQUENCE:3
DTSTAMP:20260421T013239Z
URL:http://business.uniquelyurbandale.com/events/details/the-people-s-band-16057
END:VEVENT

END:VCALENDAR
