BEGIN:VCALENDAR
VERSION:2.0
PRODID:-//ChamberMaster//Event Calendar 2.0//EN
METHOD:PUBLISH
X-PUBLISHED-TTL:P3D
REFRESH-INTERVAL:P3D
CALSCALE:GREGORIAN
BEGIN:VEVENT
DTSTART:20231004T230000Z
DTEND:20231005T000000Z
X-MICROSOFT-CDO-ALLDAYEVENT:FALSE
SUMMARY:The Legacy of Henrietta Lacks: The History of Racial Inequities in the Health Care System
DESCRIPTION:Led by Dr. Anisa Hansen\, Director of Diversity\, Equity\, and Inclusion\, Drake University College of Pharmacy and Health Sciences. \n \n\n\nThis program ties in with our 2023 All Urbandale Reads book\, "The Immortal Life of Henrietta Lacks\," and reading the book is encouraged. \n\n \n\nAll Urbandale Reads is a "one book\, one community" reading initiative that attempts to get everyone in a city to read and discuss the same book. The goal of All Urbandale Reads is to unite the community and promote literacy through one inspiring read. Click here to learn more about this initiative and to see a list of past titles. \n\n\n\n \n\nAll Urbandale Reads reading material and programming funded by the Urbandale Public Library Foundation.
X-ALT-DESC;FMTTYPE=text/html:<span style="color:rgb(92\, 92\, 92)\; font-family:segoe ui">Led by Dr. Anisa Hansen\, Director of Diversity\, Equity\, and Inclusion\, Drake University College of Pharmacy and Health Sciences.&nbsp\;</span>\n<div>&nbsp\;</div>\n\n<div>\n<div><em>This program ties in with our 2023 All Urbandale Reads book\, &quot\;The Immortal Life of Henrietta Lacks\,&quot\; and reading the book is encouraged.&nbsp\;</em></div>\n\n<div>&nbsp\;</div>\n\n<div>All Urbandale Reads is a &ldquo\;one book\, one community&rdquo\; reading initiative that attempts to get everyone in a city to read and discuss the same book. The goal of All Urbandale Reads is to unite the community and promote literacy through one inspiring read.&nbsp\;<a href="https://www.urbandalelibrary.org/all-urbandale-reads/" style="color: rgb(0\, 0\, 170)\;" target="_self" title="">Click here</a>&nbsp\;to learn more about this initiative and to see a list of past titles.&nbsp\;</div>\n</div>\n\n<div>\n<div>&nbsp\;</div>\n\n<div><em>All Urbandale Reads reading material and programming funded by the&nbsp\;</em><a href="https://urbandalelibrary.org/about-us/foundation/" style="color: rgb(0\, 0\, 170)\;" target="_self" title=""><em>Urbandale Public Library Foundation</em></a><em>.&nbsp\;</em></div>\n\n<div>&nbsp\;</div>\n</div>\n
LOCATION:
UID:e.1185.13152
SEQUENCE:3
DTSTAMP:20260421T225503Z
URL:http://business.uniquelyurbandale.com/events/details/the-legacy-of-henrietta-lacks-the-history-of-racial-inequities-in-the-health-care-system-13152
END:VEVENT

END:VCALENDAR
