BEGIN:VCALENDAR
VERSION:2.0
PRODID:-//ChamberMaster//Event Calendar 2.0//EN
METHOD:PUBLISH
X-PUBLISHED-TTL:P3D
REFRESH-INTERVAL:P3D
CALSCALE:GREGORIAN
BEGIN:VEVENT
DTSTART:20231014T153000Z
DTEND:20231015T000000Z
X-MICROSOFT-CDO-ALLDAYEVENT:FALSE
SUMMARY:The Community Table: a Storytelling and Local Food Festival
DESCRIPTION:We're inviting you for another year of excellent storytellers\, delicious local food vendors and loads of fun activities for kids and families!\n\nAll activities will be located at either the Franklin Avenue Library\, the Northwest Community Center or the parking lots and green space surrounding those two buildings. This will keep everything close together\, including accessible restrooms.  Please join us!
X-ALT-DESC;FMTTYPE=text/html:<p>We&#39\;re inviting you for another year of excellent storytellers\, delicious local food vendors and loads of fun activities for kids and families!</p>\n\n<p>All activities will be located at either the Franklin Avenue Library\, the Northwest Community Center or the parking lots and green space surrounding those two buildings. This will keep everything close together\, including accessible restrooms.&nbsp\; Please join us!</p>\n
LOCATION:Franklin Avenue Library 5000 Franklin Avenue Des Moines\, IA 50310
UID:e.1185.13147
SEQUENCE:3
DTSTAMP:20260422T001626Z
URL:http://business.uniquelyurbandale.com/events/details/the-community-table-a-storytelling-and-local-food-festival-13147
END:VEVENT

END:VCALENDAR
