BEGIN:VCALENDAR
VERSION:2.0
PRODID:-//ChamberMaster//Event Calendar 2.0//EN
METHOD:PUBLISH
X-PUBLISHED-TTL:P3D
REFRESH-INTERVAL:P3D
CALSCALE:GREGORIAN
BEGIN:VEVENT
DTSTART:20231204T013000Z
DTEND:20231204T040000Z
X-MICROSOFT-CDO-ALLDAYEVENT:FALSE
SUMMARY:The Commodores
DESCRIPTION:Don't miss your chance to see one of the greatest iconic funk and soul bands to ever bust a groove. The Commodores share their unique vocal stylings through their number one hits\, including "Three Times a Lady\," "Still\," and "Nightshift" garnered the band a Grammy award. One of the most successful vocal groups of all time\, see them LIVE at Prairie Meadows on December 3. Grab your Commodores tickets today!
X-ALT-DESC;FMTTYPE=text/html:Don&rsquo\;t miss your chance to see one of the greatest iconic funk and soul bands to ever bust a groove. The Commodores share their unique vocal stylings through their number one hits\, including &ldquo\;Three Times a Lady\,&rdquo\; &ldquo\;Still\,&rdquo\; and &ldquo\;Nightshift&rdquo\; garnered the band a Grammy award. One of the most successful vocal groups of all time\, see them LIVE at Prairie Meadows on December 3. Grab your Commodores tickets today!
LOCATION:Prairie Meadows Casino\, Racetrack\, & Hotel\, 1 Prairie Meadows Dr\, Altoona\, IA 50009
UID:e.1185.13215
SEQUENCE:3
DTSTAMP:20260421T193054Z
URL:http://business.uniquelyurbandale.com/events/details/the-commodores-13215
END:VEVENT

END:VCALENDAR
