BEGIN:VCALENDAR
VERSION:2.0
PRODID:-//ChamberMaster//Event Calendar 2.0//EN
METHOD:PUBLISH
X-PUBLISHED-TTL:P3D
REFRESH-INTERVAL:P3D
CALSCALE:GREGORIAN
BEGIN:VEVENT
DTSTART:20240926T133000Z
DTEND:20240926T153000Z
X-MICROSOFT-CDO-ALLDAYEVENT:FALSE
SUMMARY:The Business Deal Journey: Guidance for Both Buyers and Sellers
DESCRIPTION:Is your business your retirement plan? Is your business even sellable?\n\n\n\nDo you ever dream about your next adventure in business? Have you thought about owning a new business to increase your take home income? \n\n\n\nWhether or not you're looking to sell or buy a business\, this workshop is for you! We will be providing key steps to assess and value a business.\n\n\n\nSeating is limited. \n\n\n\nREGISTER NOW!
X-ALT-DESC;FMTTYPE=text/html:<p><span style="font-family:verdana\; font-size:14px">Is your business your retirement plan? Is your business even sellable?</span><br />\n<br />\n<span style="font-size:14px"><span style="font-family:verdana">Do you ever dream about your next adventure in business? Have you thought about owning a new business to increase your take home income?&nbsp\;<br />\n<br />\nWhether or not you&#39\;re looking to sell or buy a business\, this workshop is for you! We will be providing key steps to assess and value a&nbsp\;business.<br />\n<br />\nSeating is limited.&nbsp\;<br />\n<br />\n<strong><span style="font-size:16px"><a href="http://workshop.cfoaccountingservices.com" target="_blank"><span style="color:#FFFFFF"><span style="background-color:#352E29">REGISTER NOW!</span></span></a></span></strong></span></span></p>\n
LOCATION:Urbandale Chamber of Commerce 2830 100th Street\, Suite 110 Urbandale\, IA 50322
UID:e.1185.15666
SEQUENCE:3
DTSTAMP:20260423T100900Z
URL:http://business.uniquelyurbandale.com/events/details/the-business-deal-journey-guidance-for-both-buyers-and-sellers-15666
END:VEVENT

END:VCALENDAR
