BEGIN:VCALENDAR
VERSION:2.0
PRODID:-//ChamberMaster//Event Calendar 2.0//EN
METHOD:PUBLISH
X-PUBLISHED-TTL:P3D
REFRESH-INTERVAL:P3D
CALSCALE:GREGORIAN
BEGIN:VEVENT
DTSTART:20241124T020000Z
DTEND:20241124T050000Z
X-MICROSOFT-CDO-ALLDAYEVENT:FALSE
SUMMARY:The American Rebel Band
DESCRIPTION:American Rebel Tour is a national touring acoustic show that entertain audiences with a unique style of country grit\, edgy rock\, and everything in between. They feature a mix of music\, comedy\, banter\, and even on the spot songs. Don't miss their free show in the Finish Line Show Lounge!
X-ALT-DESC;FMTTYPE=text/html:American Rebel Tour is a national touring acoustic show that entertain audiences with a unique style of country grit\, edgy rock\, and everything in between. They feature a mix of music\, comedy\, banter\, and even on the spot songs. Don&rsquo\;t miss their free show in the Finish Line Show Lounge!
LOCATION:Finish Line Show Lounge on Casino Level 2
UID:e.1185.15917
SEQUENCE:3
DTSTAMP:20260420T235536Z
URL:http://business.uniquelyurbandale.com/events/details/the-american-rebel-band-15917
END:VEVENT

END:VCALENDAR
