BEGIN:VCALENDAR
VERSION:2.0
PRODID:-//ChamberMaster//Event Calendar 2.0//EN
METHOD:PUBLISH
X-PUBLISHED-TTL:P3D
REFRESH-INTERVAL:P3D
CALSCALE:GREGORIAN
BEGIN:VEVENT
DTSTART:20240101T000000Z
DTEND:20240101T070000Z
X-MICROSOFT-CDO-ALLDAYEVENT:FALSE
SUMMARY:The 2nd Annual Ultimate NYE Gala!!
DESCRIPTION:Join us for a night of non-stop fun\, glitz\, and glamour\, as Iowa Hall of Fame group\, "Sumpin Doo" and their big band help raise funds to benefit the NLE Arts & Music Foundation! Meet us there as we dance in the New Year to your favorite R&B\, Soul and Pop songs from the 70s thru 2000!
X-ALT-DESC;FMTTYPE=text/html:Join us for a night of non-stop fun\, glitz\, and glamour\, as Iowa Hall of Fame group\, &quot\;Sumpin Doo&quot\; and their big band help raise funds to benefit the NLE Arts &amp\; Music Foundation! Meet us there as we dance in the New Year to your favorite R&amp\;B\, Soul and Pop songs from the 70s thru 2000!
LOCATION:Holiday Inn Des Moines-Airport/Conf Center\, an IHG Hotel 6111 Fleur Dr\, Des Moines\, IA 50321 (515) 287-2400 Group Name: NLE Gala Group Code: NLE
UID:e.1185.13266
SEQUENCE:3
DTSTAMP:20260421T193331Z
URL:http://business.uniquelyurbandale.com/events/details/the-2nd-annual-ultimate-nye-gala-13266
END:VEVENT

END:VCALENDAR
