BEGIN:VCALENDAR
VERSION:2.0
PRODID:-//ChamberMaster//Event Calendar 2.0//EN
METHOD:PUBLISH
X-PUBLISHED-TTL:P3D
REFRESH-INTERVAL:P3D
CALSCALE:GREGORIAN
BEGIN:VEVENT
DTSTART:20240327T210000Z
DTEND:20240328T230000Z
X-MICROSOFT-CDO-ALLDAYEVENT:FALSE
SUMMARY:Spring Open House
DESCRIPTION:Want to learn more about earning your degree? You're invited to the Des Moines Center's Open House! We have over 40+ programs to choose from and may accept up to 90 transfer credits. Scholarships\, tuition grants\, and financial aid are available for those who qualify.\n\n Can't make it but still want to connect? Visit us at uiu.edu!
X-ALT-DESC;FMTTYPE=text/html:Want to learn more about earning your degree? You&rsquo\;re invited to the Des Moines Center&rsquo\;s Open House! We have over 40+ programs to choose from and may accept up to 90 transfer credits. Scholarships\, tuition grants\, and financial aid are available for those who qualify.<br />\n&nbsp\;Can&rsquo\;t make it but still want to connect? Visit us at uiu.edu!<br />\n&nbsp\;\n<div>&nbsp\;</div>\n
LOCATION:5000 Westown Parkway Suite 200 West Des Moines\, IA 50266
UID:e.1185.15116
SEQUENCE:3
DTSTAMP:20260421T153253Z
URL:http://business.uniquelyurbandale.com/events/details/spring-open-house-15116
END:VEVENT

END:VCALENDAR
