BEGIN:VCALENDAR
VERSION:2.0
PRODID:-//ChamberMaster//Event Calendar 2.0//EN
METHOD:PUBLISH
X-PUBLISHED-TTL:P3D
REFRESH-INTERVAL:P3D
CALSCALE:GREGORIAN
BEGIN:VEVENT
DTSTART:20250910T130000Z
DTEND:20250911T040000Z
X-MICROSOFT-CDO-ALLDAYEVENT:FALSE
SUMMARY:SPOTS ARE FULL! Member Benefit Offer - Professional Headshots
DESCRIPTION:ALL SPOTS ARE FULL!!! Stay Tuned for future dates! \n\n\n\nLimited-Time Chamber Member Benefit!\nMichael & Ryley Photography is excited to offer complimentary professional headshots exclusively for Chamber members!\n\n  Each session will be 15 minutes and spots are limited reserve yours today before they're gone.\n\nCome dressed in your professional best\, with hair done and ready to smile. This is the perfect opportunity to refresh your headshot at no cost!
X-ALT-DESC;FMTTYPE=text/html:<strong data-end="110" data-start="70" style="font-size: 18px\;"><span style="color: rgb(255\, 0\, 0)\;">ALL SPOTS ARE FULL!!! Stay Tuned for future dates!&nbsp\;</span></strong><br />\n<br />\n<span style="font-size:18px\;"><strong data-end="110" data-start="70">Limited-Time Chamber Member Benefit!</strong></span>\n<p data-end="239" data-start="116">Michael &amp\; Ryley Photography is excited to offer <strong data-end="204" data-start="164">complimentary professional headshots</strong> exclusively for Chamber members!</p>\n\n<p data-end="344" data-start="241">&#128248\; Each session will be <strong data-end="279" data-start="265">15 minutes</strong> and spots are limited&mdash\;reserve yours today before they&rsquo\;re gone.</p>\n\n<p data-end="491" data-start="346">Come dressed in your professional best\, with hair done and ready to smile. This is the perfect opportunity to refresh your headshot at no cost!</p>\n
LOCATION:Michael & Ryley | 2600 72nd St.\, Suite N | Urbandale (Just a little bit north of the old Buc's Arena)
UID:e.1185.17378
SEQUENCE:3
DTSTAMP:20260421T152137Z
URL:http://business.uniquelyurbandale.com/events/details/spots-are-full-member-benefit-offer-professional-headshots-09-10-2025-17378
END:VEVENT

END:VCALENDAR
