BEGIN:VCALENDAR
VERSION:2.0
PRODID:-//ChamberMaster//Event Calendar 2.0//EN
METHOD:PUBLISH
X-PUBLISHED-TTL:P3D
REFRESH-INTERVAL:P3D
CALSCALE:GREGORIAN
BEGIN:VEVENT
DTSTART:20250304T210000Z
DTEND:20250304T230000Z
X-MICROSOFT-CDO-ALLDAYEVENT:FALSE
SUMMARY:SpeakFluence Make Your Voice Count Workshop
DESCRIPTION:What if every time you spoke you could be IMPACTFUL\, INTERESTING and have INFLUENCE? \n\n\n\nJoin us for a truly invaluable day learning and active participation\, as you learn the basics of Great Speaking. \n\n\n\nThis workshop will cover topics such as: \n\nThe Foundational Principles of Dynamic Speaking\n\nThe C's of Influence & P's of Fluency\n\nHow to Eradicate the Fear of Speaking\n\nThe Secrets of Masterful Storytelling\n\n... and much more! \n\n\n\nAttendees will receive a FREE copy of the SpeakFluence Handbook!\n\n\n\nWorkshop Information: \n\n2 Date options\, choose which class you would like to attend: \n\nTuesday\, March 4 | 3:00 p.m. - 5:00 p.m. \n\nFriday\, March 7 | 8:15 a.m. - 10:15 a.m.\n\n\n\nLocation: Urbandale Chamber of Commerce \n\n2830 100th St. Ste. 110\, Urbandale\, IA\n\n\n\nRegular price: $127 | Early Bird Pricing: $99 \n\nSign up at www.speakfluence.com/events \n\nSeating is limited. Early bird pricing ends February 14th.
X-ALT-DESC;FMTTYPE=text/html:What if every time you spoke you could be <strong>IMPACTFUL\, INTERESTING</strong> and have <strong>INFLUENCE</strong>?&nbsp\;<br />\n<br />\nJoin us for a truly invaluable day learning and active participation\, as you learn the basics of Great Speaking.&nbsp\;<br />\n<br />\n<strong>This workshop will cover topics such as:&nbsp\;</strong><br />\nThe Foundational Principles of Dynamic Speaking<br />\nThe C&#39\;s of Influence &amp\; P&#39\;s of Fluency<br />\nHow to Eradicate the Fear of Speaking<br />\nThe Secrets of Masterful Storytelling<br />\n... and much more!&nbsp\;<br />\n<br />\nAttendees will receive a FREE copy of the SpeakFluence Handbook!<br />\n<br />\n<strong>Workshop Information:&nbsp\;</strong><br />\n2 Date options\, choose which class you would like to attend:&nbsp\;<br />\nTuesday\, March 4 | 3:00 p.m. - 5:00 p.m.&nbsp\;<br />\nFriday\, March 7 | 8:15 a.m. - 10:15 a.m.<br />\n<br />\n<strong>Location</strong>: Urbandale Chamber of Commerce&nbsp\;<br />\n2830 100th St. Ste. 110\, Urbandale\, IA<br />\n<br />\n<strong>Regular price:</strong> $127 | <strong>Early Bird Pricing:</strong> $99&nbsp\;<br />\nSign up at <a href="https://speakfluence.com/events/"><strong>www.speakfluence.com/events&nbsp\;</strong></a><br />\nSeating is limited. Early bird pricing ends February 14th.&nbsp\;<br />\n&nbsp\;
LOCATION:Urbandale Chamber of Commerce 2830 100th St. Ste. 110\, Urbandale\, IA
UID:e.1185.16546
SEQUENCE:3
DTSTAMP:20260421T043759Z
URL:http://business.uniquelyurbandale.com/events/details/speakfluence-make-your-voice-count-workshop-03-04-2025-16546
END:VEVENT

END:VCALENDAR
