BEGIN:VCALENDAR
VERSION:2.0
PRODID:-//ChamberMaster//Event Calendar 2.0//EN
METHOD:PUBLISH
X-PUBLISHED-TTL:P3D
REFRESH-INTERVAL:P3D
CALSCALE:GREGORIAN
BEGIN:VEVENT
DTSTART:20230314T223000Z
DTEND:20230314T233000Z
X-MICROSOFT-CDO-ALLDAYEVENT:FALSE
SUMMARY:Spain Pre-Trip Gathering
DESCRIPTION:We are departing soon for the Chamber's trip to Costa Del Sol!  Before we depart\, the Chamber likes to organize a pre-trip gathering of the travelers.  This gives everyone a chance to meet each other and ask any final questions.\n\n\n\nThis is not a requirement and you may come in person or participate via zoom.  We hope you will join us!
X-ALT-DESC;FMTTYPE=text/html:We are departing soon for the Chamber&#39\;s trip to Costa Del Sol!&nbsp\; Before we depart\, the Chamber likes to organize a pre-trip gathering of the travelers.&nbsp\; This gives everyone a chance to meet each other and ask any final questions.<br />\n<br />\nThis is not a requirement and you may come in person or participate via zoom.&nbsp\; We hope you will join us!
LOCATION:Urbandale Chamber of Commerce Aisha R. Syed Board Room REALTOR | Iowa Realty 2830 100th St.\, Ste. 110 Urbandale\, IA 50322 Or Zoom
UID:e.1185.13004
SEQUENCE:3
DTSTAMP:20260422T121350Z
URL:http://business.uniquelyurbandale.com/events/details/spain-pre-trip-gathering-13004
END:VEVENT

END:VCALENDAR
