BEGIN:VCALENDAR
VERSION:2.0
PRODID:-//ChamberMaster//Event Calendar 2.0//EN
METHOD:PUBLISH
X-PUBLISHED-TTL:P3D
REFRESH-INTERVAL:P3D
CALSCALE:GREGORIAN
BEGIN:VEVENT
DTSTART:20240210T003000Z
DTEND:20240210T023000Z
X-MICROSOFT-CDO-ALLDAYEVENT:FALSE
SUMMARY:Smitten Singles Classic Speed Dating
DESCRIPTION:Join us for an exciting evening of speed dating! This event is perfect for singles looking to meet new people and potentially find a special someone. This event is targeted to ages 35 to 49. The evening will begin with a meet-and-greet\, allowing everyone to get to know each other before the speed dating rounds begin. During the speed dating portion of the event\, you'll have the opportunity to chat one-on-one with each participant for a set amount of time before moving on to the next. Smitten Singles will provide conversation prompts to ensure that the conversation flows smoothly. After the rounds are complete\, you'll turn in matches and have a chance to get to know the people you connected with at the post-event mixer.
X-ALT-DESC;FMTTYPE=text/html:Join us for an exciting evening of speed dating! This event is perfect for singles looking to meet new people and potentially find a special someone. This event is targeted to ages 35 to 49. The evening will begin with a meet-and-greet\, allowing everyone to get to know each other before the speed dating rounds begin. During the speed dating portion of the event\, you&#39\;ll have the opportunity to chat one-on-one with each participant for a set amount of time before moving on to the next. Smitten Singles will provide conversation prompts to ensure that the conversation flows smoothly. After the rounds are complete\, you&#39\;ll turn in matches and have a chance to get to know the people you connected with at the post-event mixer.
LOCATION:Your Private Bar 1701 25th St #100\, West Des Moines\, IA 50266
UID:e.1185.14978
SEQUENCE:3
DTSTAMP:20260421T165645Z
URL:http://business.uniquelyurbandale.com/events/details/smitten-singles-classic-speed-dating-14978
END:VEVENT

END:VCALENDAR
