BEGIN:VCALENDAR
VERSION:2.0
PRODID:-//ChamberMaster//Event Calendar 2.0//EN
METHOD:PUBLISH
X-PUBLISHED-TTL:P3D
REFRESH-INTERVAL:P3D
CALSCALE:GREGORIAN
BEGIN:VEVENT
DTSTART:20240304T180000Z
DTEND:20240304T190000Z
X-MICROSOFT-CDO-ALLDAYEVENT:FALSE
SUMMARY:Sixth TRC Rally
DESCRIPTION:Attention TRC volunteers!  It is time to rally for the 2024 TRC Campaign!  These rallies are not required to attend\, however they are a lot of fun and strongly encouraged.\n\n\n\nThe TRC rally is the perfect time to get your questions answered\, re-connect with your team\, receive your incentives for the week\, pick up some awesome prizes and more!  You don't want to miss these sessions.  Food and Beverages are provided so reservations are required.    \n\n\n\nThis week's catering is brought to you by: Chick-Fil-A\n\nPlease indicate any food allergies when registering.
X-ALT-DESC;FMTTYPE=text/html:<span style="font-family:arial\;"><span style="font-size:14px\;">Attention TRC volunteers!&nbsp\; It is time to rally for the 2024 TRC Campaign!&nbsp\; These rallies are not required to attend\, however they are a lot of fun and strongly encouraged.<br />\n<br />\nThe TRC rally is the perfect time to get your questions answered\, re-connect with your team\, receive your incentives for the week\, pick up some awesome prizes and more!&nbsp\; You don&#39\;t want to miss these sessions.&nbsp\; <strong>Food and Beverages are provided so reservations are required.&nbsp\; &nbsp\;&nbsp\;<br />\n<br />\nThis week&#39\;s catering is brought to you by: Chick-Fil-A</strong><br />\n<em>Please indicate any food allergies when registering.</em></span></span>
LOCATION:Urbandale Chamber of Commerce Aisha R. Syed Board Room REALTOR | Iowa Realty 2830 100th St.\, Suite 110\,Urbandale\, IA 50322
UID:e.1185.14753
SEQUENCE:3
DTSTAMP:20260421T154207Z
URL:http://business.uniquelyurbandale.com/events/details/sixth-trc-rally-14753
END:VEVENT

END:VCALENDAR
