BEGIN:VCALENDAR
VERSION:2.0
PRODID:-//ChamberMaster//Event Calendar 2.0//EN
METHOD:PUBLISH
X-PUBLISHED-TTL:P3D
REFRESH-INTERVAL:P3D
CALSCALE:GREGORIAN
BEGIN:VEVENT
DTSTART:20240217T153000Z
DTEND:20240217T180000Z
X-MICROSOFT-CDO-ALLDAYEVENT:FALSE
SUMMARY:Self Defense Event - Rescheduled - Hosted by Imperfect Pathways & Bishops Elite Martial Arts Academy
DESCRIPTION:Imperfect Pathways & Bishops Elite Martial Arts Academy host a Self Defense event to boost your confidence and enhance personal safety. This event offers a variety of experiences from participating in self defense drills to learning from a mental health professional and Law Enforcement Officer. \n\nThe event is free\, however we do ask that you donate to one of our charities during the registration process. You must register for this event as there are a limited number of spots available. \n\nYou'll gain practical knowledge and techniques that can make a real difference in your everyday safety. Feeling empowered is a key ingredient to living your best life.\nJoin us!
X-ALT-DESC;FMTTYPE=text/html:<h3 style="color:#aaa\;font-style:italic\;"><span style="color:#000000"><big><var><span style="font-size:14px">Imperfect Pathways &amp\; Bishops Elite Martial Arts Academy host a Self Defense event to b<span style="font-family:söhne\,ui-sans-serif\,system-ui\,-apple-system\,segoe ui\,roboto\,ubuntu\,cantarell\,noto sans\,sans-serif\,helvetica neue\,arial\,apple color emoji\,segoe ui emoji\,segoe ui symbol\,noto color emoji">oost your confidence and enhance personal safety. This event offers a variety of experiences from participating in self defense drills to learning from a mental health professional and Law Enforcement Officer.&nbsp\;<br />\nThe event is free\, however we do ask that you donate to one of our charities during the registration process. You must register for this event as there are a limited number of spots available.&nbsp\;<br />\nYou&#39\;ll gain practical knowledge and techniques that can make a real difference in your everyday safety. Feeling empowered is a key ingredient to living your best life.</span></span></var></big></span></h3>\nJoin us!
LOCATION:Bishop's Elite Martial Arts Academy 2706 1/2 Beaver Ave. Des Moines\, IA 50310
UID:e.1185.14976
SEQUENCE:3
DTSTAMP:20260421T165728Z
URL:http://business.uniquelyurbandale.com/events/details/self-defense-event-rescheduled-hosted-by-imperfect-pathways-bishops-elite-martial-arts-academy-14976
END:VEVENT

END:VCALENDAR
