BEGIN:VCALENDAR
VERSION:2.0
PRODID:-//ChamberMaster//Event Calendar 2.0//EN
METHOD:PUBLISH
X-PUBLISHED-TTL:P3D
REFRESH-INTERVAL:P3D
CALSCALE:GREGORIAN
BEGIN:VEVENT
DTSTART:20240113T153000Z
DTEND:20240113T180000Z
X-MICROSOFT-CDO-ALLDAYEVENT:FALSE
SUMMARY:Self Defense Event
DESCRIPTION:Imperfect Pathways & Bishop's Elite Martial Arts is hosting a Self-Defense Event. Join us to equip yourself with crucial knowledge and techniques\, empowering you to proactively enhance personal safety and confidence in navigating various situations. This event is open to the public at not cost\, however you must register as spots are limited and we do ask you donate to one of our charities.   \n\nWe have presentations\, demos\, & free resources available the day of the event. Jane Nady with Imperfect Pathways\, Ryan Bishop with Bishop's Martial Arts and Megan Cowden with the Urbandale Police Department will be speaking at the event. \n\nWe want each participant to learn\, feel confident\, and gather practical tools to navigate situations without allowing fear take the wheel. We're here to help you feel safe\, strong\, and ready for whatever life throws your way.\n\nBe sure to register at: https://sparkpages.io/cart/2/?i=_T5ab&c=&ocu=\n\nby January 12th\, to ensure you have a spot at this important event!
X-ALT-DESC;FMTTYPE=text/html:<span style="color:rgb(55\, 65\, 81)\; font-family:söhne\,ui-sans-serif\,system-ui\,-apple-system\,segoe ui\,roboto\,ubuntu\,cantarell\,noto sans\,sans-serif\,helvetica neue\,arial\,apple color emoji\,segoe ui emoji\,segoe ui symbol\,noto color emoji\; font-size:16px">Imperfect Pathways &amp\; Bishop&#39\;s Elite Martial Arts is hosting a Self-Defense Event. Join us to equip yourself with crucial knowledge and techniques\, empowering you to proactively enhance personal safety and confidence in navigating various situations. This event is open to the public at not cost\, however you must register as spots are limited and we do ask you donate to one of our charities.&nbsp\; &nbsp\;<br />\nWe have presentations\, demos\, &amp\; free resources available the day of the event. Jane Nady with Imperfect Pathways\, Ryan Bishop with Bishop&#39\;s Martial Arts and Megan Cowden with the Urbandale Police Department will be speaking at the event.&nbsp\;<br />\nWe want each participant to learn\, feel confident\, and gather practical tools to navigate situations without allowing fear take the wheel. We&#39\;re here to help you feel safe\, strong\, and ready for whatever life throws your way.<br />\nBe sure to register at:&nbsp\;</span><a href="https://sparkpages.io/cart/2/?i=_T5ab&amp\;c=&amp\;ocu=">https://sparkpages.io/cart/2/?i=_T5ab&amp\;c=&amp\;ocu=</a><br />\n<span style="color:rgb(55\, 65\, 81)\; font-family:söhne\,ui-sans-serif\,system-ui\,-apple-system\,segoe ui\,roboto\,ubuntu\,cantarell\,noto sans\,sans-serif\,helvetica neue\,arial\,apple color emoji\,segoe ui emoji\,segoe ui symbol\,noto color emoji\; font-size:16px">by&nbsp\;January 12th\, to ensure you have a spot at this important event!</span>
LOCATION:Bishop's Elite Martial Arts Academy 2706 1/2 Beaver Ave. Des Moines\, IA 50310
UID:e.1185.14133
SEQUENCE:3
DTSTAMP:20260421T181615Z
URL:http://business.uniquelyurbandale.com/events/details/self-defense-event-14133
END:VEVENT

END:VCALENDAR
